BEGIN:VCALENDAR
VERSION:2.0
PRODID:-//Fórum Luísa Todi - ECPv4.6.9//NONSGML v1.0//EN
CALSCALE:GREGORIAN
METHOD:PUBLISH
X-WR-CALNAME:Fórum Luísa Todi
X-ORIGINAL-URL:https://www.forumluisatodi.pt
X-WR-CALDESC:Events for Fórum Luísa Todi
BEGIN:VEVENT
DTSTART;TZID=Europe/Lisbon:20250323T170000
DTEND;TZID=Europe/Lisbon:20250323T190000
DTSTAMP:20260422T090020
CREATED:20250116T121006Z
LAST-MODIFIED:20250320T160215Z
UID:74626-1742749200-1742756400@www.forumluisatodi.pt
SUMMARY:XXXI Encontro de Coros Infantis e Juvenis de Setúbal
DESCRIPTION:AVISO \nPor motivos de força maior\, relacionados com a intempérie causada pela depressão “Martinho”\, este espetáculo foi cancelado. \nA devolução do valor dos bilhetes deverá ser solicitada pela mesma via da compra até ao dia 31 de maio.\n \nAgradecemos a compreensão. \nA organização dos Encontros de Coros Infantis e Juvenis marca de forma muito significativa a atividade do Coral Infantil de Setúbal\, pois estes encontros inserem-se numa lógica de intercâmbio e partilha que contribui para o enriquecimento mútuo de todos os participantes. \nO resultado é sempre um espetáculo encantador\, em que todos se sentem devidamente apreciados e acarinhados. \nNa 31.ª edição destes encontros vão participar\, além do Coral infantil de Setúbal\, o Coro Gaudium Voces\, de Lisboa\, e As Pequenas Vozes de Febres\, de Cantanhede. \nHaverá\, ainda\, a participação especial de alunos de 3.º e 4.º anos da Escola Básica n.º 3 de Setúbal (Montalvão). \n
URL:https://www.forumluisatodi.pt/espetaculo/xxx-encontro-de-coros-infantis-e-juvenis-de-setubal/
CATEGORIES:Música
ATTACH;FMTTYPE=image/jpeg:https://www.forumluisatodi.pt/wp-content/uploads/2019/12/CANCELADO-forum.jpg
END:VEVENT
END:VCALENDAR