BEGIN:VCALENDAR
VERSION:2.0
PRODID:-//Fórum Luísa Todi - ECPv4.6.9//NONSGML v1.0//EN
CALSCALE:GREGORIAN
METHOD:PUBLISH
X-WR-CALNAME:Fórum Luísa Todi
X-ORIGINAL-URL:https://www.forumluisatodi.pt
X-WR-CALDESC:Events for Fórum Luísa Todi
BEGIN:VEVENT
DTSTART;TZID=Europe/Lisbon:20240921T210000
DTEND;TZID=Europe/Lisbon:20240921T210000
DTSTAMP:20260420T013737
CREATED:20240912T110006Z
LAST-MODIFIED:20240912T113757Z
UID:72512-1726952400-1726952400@www.forumluisatodi.pt
SUMMARY:XXVI Bocage
DESCRIPTION:O Festival Internacional de Tunas “Bocage” nasceu em 1996 através da coorganização entre a Associação de Estudantes da Escola Superior de Tecnologia de Setúbal e a ESTuna\, nascida também no mesmo ano. \nDurante 25 edições\, a experiência e entreajuda de ambas as associações fez evoluir este evento\, tornando-o numa atividade cultural e recreativa de destaque no distrito de Setúbal\, bem como a nível nacional. \nHoje\, inteiramente organizado pela ESTuna\, mantém-se o objetivo de dinamizar este evento\, no sentido de proporcionar à população de Setúbal um espetáculo onde estejam presentes algumas das melhores tunas dos diferentes polos académicos e geográficos do país e do estrangeiro. \n
URL:https://www.forumluisatodi.pt/espetaculo/xxv-bocage/
CATEGORIES:Música
ATTACH;FMTTYPE=image/jpeg:https://www.forumluisatodi.pt/wp-content/uploads/2022/03/ESTUNA_xxvbocage.jpg
END:VEVENT
END:VCALENDAR