BEGIN:VCALENDAR
VERSION:2.0
PRODID:-//Fórum Luísa Todi - ECPv4.6.9//NONSGML v1.0//EN
CALSCALE:GREGORIAN
METHOD:PUBLISH
X-WR-CALNAME:Fórum Luísa Todi
X-ORIGINAL-URL:https://www.forumluisatodi.pt
X-WR-CALDESC:Events for Fórum Luísa Todi
BEGIN:VEVENT
DTSTART;TZID=Europe/Lisbon:20220411T210000
DTEND;TZID=Europe/Lisbon:20220411T220000
DTSTAMP:20260425T120606
CREATED:20220406T100229Z
LAST-MODIFIED:20220406T100229Z
UID:72580-1649710800-1649714400@www.forumluisatodi.pt
SUMMARY:Vitória de Setúbal – 10 Anos de Ouro
DESCRIPTION:Um filme produzido pela RTP sobre a década de ouro do Vitória Futebol Clube estreia-se no Fórum Municipal Luísa Todi\, numa sessão que inclui um debate sobre o futebol sadino. \n“Vitória de Setúbal – 10 anos de ouro”\, realizado por Rui Alves e com locução do jornalista Paulo Sérgio\, retrata\, em 58 minutos\, uma década de feitos gloriosos do clube sadino\, em que brilharam jogadores como Jacinto João\, Tomé\, Octávio e Cardoso\, entre muitos outros\, e os treinadores José Maria Pedroto e Fernando Vaz. \nA apresentação do filme é seguida de um debate\, moderado por Paulo Sérgio\, que conta com as participações do autor\, Rui Alves\, do presidente do Vitória Futebol Clube\, Carlos Silva\, do atual capitão da equipa de futebol\, José Semedo\, e dos antigos jogadores Fernando Tomé e Octávio Machado. \nA sessão\, organizada numa parceria entre Câmara Municipal de Setúbal\, RTP e Vitória Futebol Clube\, é de entrada gratuita. \nApós a estreia\, o filme “Vitória de Setúbal – 10 anos de ouro” é exibido no canal de televisão RTP Memória em data a anunciar pela estação. \n
URL:https://www.forumluisatodi.pt/espetaculo/vitoria-de-setubal-10-anos-de-ouro/
CATEGORIES:Outros
ATTACH;FMTTYPE=image/png:https://www.forumluisatodi.pt/wp-content/uploads/2022/04/VFC-Ouro.png
END:VEVENT
END:VCALENDAR