BEGIN:VCALENDAR
VERSION:2.0
PRODID:-//Fórum Luísa Todi - ECPv4.6.9//NONSGML v1.0//EN
CALSCALE:GREGORIAN
METHOD:PUBLISH
X-WR-CALNAME:Fórum Luísa Todi
X-ORIGINAL-URL:https://www.forumluisatodi.pt
X-WR-CALDESC:Events for Fórum Luísa Todi
BEGIN:VEVENT
DTSTART;TZID=Europe/Lisbon:20210705T190000
DTEND;TZID=Europe/Lisbon:20210705T223000
DTSTAMP:20260422T085139
CREATED:20210609T142548Z
LAST-MODIFIED:20210618T101122Z
UID:71376-1625511600-1625524200@www.forumluisatodi.pt
SUMMARY:Vidas Noturnas | Relíquia Macabra
DESCRIPTION:Sessão dupla que marca o início de um novo ciclo das Lauro António Masterclass: Cinema Negro Norte-Americano. Lauro António marca presença neste dia\, em que também é lançado o livro\, de sua autoria\, “Alguns momentos-chave do Filme Negro Norte-Americano”. \nVIDAS NOTURNAS\n(They Drive by Night)\n19h00\nDois irmãos\, camionistas por conta própria\, passam por várias dificuldades financeiras e pessoais. Num esforço para melhorar a vida\, começam a trabalhar para uma empresa de transportes. É nesta altura que tudo fica mais complicado\, quando a mulher do proprietário se apaixona doentiamente por um deles\, acaba por matar o marido e\, sendo rejeitada por um dos irmãos\, tenta incrimina-lo pelo homicídio. \nRELÍQUIA MACABRA\n(The Maltese Falcon)\n21h30\nUm detetive cínico envolve-se numa missão extremamente perigosa na busca de uma estatueta do século XVI\, de valor incalculável. Quando o parceiro é assassinato\, o detetive enfrenta policias furiosos\, uma mulher sedutora e vilões excêntricos. \n  \nPlano de Contingência do Fórum Municipal Luísa Todi Covid-19 \n
URL:https://www.forumluisatodi.pt/espetaculo/vidas-noturnas-reliquia-macabra/
CATEGORIES:Cinema
ATTACH;FMTTYPE=image/jpeg:https://www.forumluisatodi.pt/wp-content/uploads/2021/06/LA-Master-VidaNoturna-ReliquiaMacabra.jpg
END:VEVENT
END:VCALENDAR