BEGIN:VCALENDAR
VERSION:2.0
PRODID:-//Fórum Luísa Todi - ECPv4.6.9//NONSGML v1.0//EN
CALSCALE:GREGORIAN
METHOD:PUBLISH
X-WR-CALNAME:Fórum Luísa Todi
X-ORIGINAL-URL:https://www.forumluisatodi.pt
X-WR-CALDESC:Events for Fórum Luísa Todi
BEGIN:VEVENT
DTSTART;TZID=Europe/Lisbon:20240624T210000
DTEND;TZID=Europe/Lisbon:20240624T230000
DTSTAMP:20260420T001020
CREATED:20240508T142550Z
LAST-MODIFIED:20240620T130817Z
UID:74901-1719262800-1719270000@www.forumluisatodi.pt
SUMMARY:Vestida para Matar
DESCRIPTION:A história acompanha um assassino psicopata e envolve Kate Miller\, uma mulher madura com um casamento pouco gratificante\, que preenche os dias com fantasias eróticas. \nRobert Elliott\, o seu psiquiatra\, convence-a a não recear as explorações extramatrimoniais. Kate decide seguir o conselho do médico\, passando a tarde com um homem que encontra num museu — o que dá o ensejo para uma cena de um erotismo tão discreto quanto intenso. À saída do seu encontro\, acontece um crime. A teia policial será resolvida pelo filho adolescente de Kate e uma prostituta. \nO filme faz parte da masterclass de Lauro António “Cinema Americano\, anos 80”\, com mais de seis dezenas de filmes selecionados pelo antigo cineasta e crítico cinematográfico\, falecido em 2022. \n
URL:https://www.forumluisatodi.pt/espetaculo/vestida-para-matar/
CATEGORIES:Cinema
ATTACH;FMTTYPE=image/jpeg:https://www.forumluisatodi.pt/wp-content/uploads/2024/05/Vestida_para_Matar.jpg
END:VEVENT
END:VCALENDAR