BEGIN:VCALENDAR
VERSION:2.0
PRODID:-//Fórum Luísa Todi - ECPv4.6.9//NONSGML v1.0//EN
CALSCALE:GREGORIAN
METHOD:PUBLISH
X-WR-CALNAME:Fórum Luísa Todi
X-ORIGINAL-URL:https://www.forumluisatodi.pt
X-WR-CALDESC:Events for Fórum Luísa Todi
BEGIN:VEVENT
DTSTART;TZID=Europe/Lisbon:20190503T213000
DTEND;TZID=Europe/Lisbon:20190503T214000
DTSTAMP:20260421T144215
CREATED:20190417T110539Z
LAST-MODIFIED:20190423T161552Z
UID:68624-1556919000-1556919600@www.forumluisatodi.pt
SUMMARY:VAMOS COMPRAR UM POETA
DESCRIPTION:A nova produção do Teatro Animação de Setúbal\, baseada na novela de Afonso Cruz\, com adaptação por Célia David para uma versão dramatúrgica\, homenageia a poesia. \nNuma sociedade em que o materialismo controla todos os aspetos das vidas dos habitantes\, as pessoas têm números em vez de nomes e tudo é medido\, incluindo os afetos. \nNesta sociedade\, as famílias têm artistas em vez de animais de estimação. \nUma família sai das páginas de um livro\, ilustrado por Zé Nova\, e a filha escolhe ter um poeta\, porque não sai caro\, não ocupa muito espaço\, nem suja muito.\nO poeta é a antítese da sociedade materialista e obcecada em quantificar tudo e vai transformar para sempre a vida desta família\, para demonstrar a importância da poesia e da cultura e de tudo o que não é quantificável\, mas é necessário à vida. \n
URL:https://www.forumluisatodi.pt/espetaculo/vamos-comprar-um-poeta/2019-05-03/
CATEGORIES:Teatro
ATTACH;FMTTYPE=image/jpeg:https://www.forumluisatodi.pt/wp-content/uploads/2019/04/Vamos_Comprar_um_Poeta_site.jpg
END:VEVENT
END:VCALENDAR