BEGIN:VCALENDAR
VERSION:2.0
PRODID:-//Fórum Luísa Todi - ECPv4.6.9//NONSGML v1.0//EN
CALSCALE:GREGORIAN
METHOD:PUBLISH
X-WR-CALNAME:Fórum Luísa Todi
X-ORIGINAL-URL:https://www.forumluisatodi.pt
X-WR-CALDESC:Events for Fórum Luísa Todi
BEGIN:VEVENT
DTSTART;TZID=Europe/Lisbon:20211119T210000
DTEND;TZID=Europe/Lisbon:20211119T223000
DTSTAMP:20260420T002929
CREATED:20211014T162857Z
LAST-MODIFIED:20211119T170626Z
UID:71884-1637355600-1637361000@www.forumluisatodi.pt
SUMMARY:UMPONTOTRÊS
DESCRIPTION: \n“Meu Deus\, meu Deus\, a quem assisto? Quantos sou? Quem é eu? O que é este intervalo que há entre mim e mim?” \n (Livro do Desassossego por Bernardo Soares. Vol. I. Fernando Pessoa) \nInspirado nos quatro principais nomes de referência dentro do universo pessoano: Fernando Pessoa\, Álvaro de Campos\, Ricardo Reis e Alberto Caeiro\, “UMPONTOTRÊS” propõe uma reflexão conjunta sobre a identidade individual que se completa na diversidade e nos espaços e tempos da relação com o próprio e com o outro. Cada identidade em Pessoa representa uma unidade isolada em si mesma e\, simultaneamente\, integra um todo mais amplo\, também ele uno. \n“UMPONTOTRÊS”\, espetáculo que mistura dança com música\, vídeo e palavra em torno da obra de Fernando Pessoa e da fragmentação do “Eu”\, resulta do trabalho colaborativo desenvolvido na 13.ª residência de criação Compota\, realizada na Biblioteca de Marvila (Fev.2020)\, onde participaram profissionais e alunos da Escola Superior de Dança\, da Escola Superior de Música de Lisboa (IPL) e do curso básico de dança da Escola Luís António Verney.  \nNo Fórum Luísa Todi “UMPONTOTRÊS” integra alunos da Academia de Dança Contemporânea de Setúbal. \n
URL:https://www.forumluisatodi.pt/espetaculo/umpontotres/
CATEGORIES:Dança,Teatro,Música
ATTACH;FMTTYPE=image/jpeg:https://www.forumluisatodi.pt/wp-content/uploads/2021/10/umpontotres.jpg
END:VEVENT
END:VCALENDAR