BEGIN:VCALENDAR
VERSION:2.0
PRODID:-//Fórum Luísa Todi - ECPv4.6.9//NONSGML v1.0//EN
CALSCALE:GREGORIAN
METHOD:PUBLISH
X-WR-CALNAME:Fórum Luísa Todi
X-ORIGINAL-URL:https://www.forumluisatodi.pt
X-WR-CALDESC:Events for Fórum Luísa Todi
BEGIN:VEVENT
DTSTART;TZID=Europe/Lisbon:20211125T213000
DTEND;TZID=Europe/Lisbon:20211125T230000
DTSTAMP:20260420T030929
CREATED:20211012T085626Z
LAST-MODIFIED:20211012T094359Z
UID:71840-1637875800-1637881200@www.forumluisatodi.pt
SUMMARY:Uma Mulher Não Chora
DESCRIPTION:O músico e compositor Renato Júnior leva ao palco do Fórum Municipal Luísa Todi o álbum mais recente\, num concerto que pretende contribuir para a sensibilização da sociedade para a violência exercida contra as mulheres no século XXI. \nAssinalando o Dia Internacional para a Eliminação da Violência Contra a Mulher\, oito cantoras acompanhadas pela banda de Renato Júnior interpretam os temas que compõem o disco “Uma Mulher Não Chora”. \nRita Redshoes\, Ana Bacalhau\, Sofia Escobar\, Viviane\, Luanda Cozetti\, Patrícia Antunes\, Patrícia Silveira e Katia Guerreiro estarão em palco numa verdadeira homenagem à condição de ser Mulher\, emprestando a voz e o testemunho na eliminação da violência exercida contras as mulheres. \nDurante cerca de hora e meia\, as cantoras convidadas desfilam em palco entrando no universo musical de Renato Júnior\, imprimindo cada uma delas a sua impressão digital à música do compositor. \nComo se não bastasse\, a partilha é igualmente feita em sentido contrário\, com alguns dos temas mais emblemáticos de cada uma das cantoras a serem trazidos para o mundo de Renato Júnior e interpretados com arranjos únicos. \n
URL:https://www.forumluisatodi.pt/espetaculo/uma-mulher-nao-chora/
CATEGORIES:Música
ATTACH;FMTTYPE=image/jpeg:https://www.forumluisatodi.pt/wp-content/uploads/2021/10/UmaMulherNaoChora.jpg
END:VEVENT
END:VCALENDAR