BEGIN:VCALENDAR
VERSION:2.0
PRODID:-//Fórum Luísa Todi - ECPv4.6.9//NONSGML v1.0//EN
CALSCALE:GREGORIAN
METHOD:PUBLISH
X-WR-CALNAME:Fórum Luísa Todi
X-ORIGINAL-URL:https://www.forumluisatodi.pt
X-WR-CALDESC:Events for Fórum Luísa Todi
BEGIN:VEVENT
DTSTART;TZID=Europe/Lisbon:20240902T210000
DTEND;TZID=Europe/Lisbon:20240902T223000
DTSTAMP:20260420T014407
CREATED:20240820T141837Z
LAST-MODIFIED:20240902T104302Z
UID:75076-1725310800-1725316200@www.forumluisatodi.pt
SUMMARY:Um Lobisomem Americano em Londres
DESCRIPTION:David Kessler (David Naughton) e Jack Goodman (Griffin Dunne) são colegas de universidade que viajaram dos Estados Unidos para conhecer Inglaterra. \nÀ boleia\, chegam a uma pequena cidade onde param para descontrair num bar\, sendo friamente acolhidos pelos locais. A situação piora quando Jack pergunta o porquê do local ter velas e um pentágono na parede. \nAo deixar o local\, eles caminham por uma estrada deserta e enevoada\, apercebendo-se de que um animal os está a seguir. Jack é então atacado por um enorme lobisomem\, tendo seu corpo dilacerado. David foge\, mas é também atacado. Ele fica apenas com cortes no rosto e nos ombros\, o suficiente para que se transforme em um lobisomem. \nO filme faz parte da masterclass de Lauro António “Cinema Americano\, anos 80”\, com mais de seis dezenas de filmes selecionados pelo antigo cineasta e crítico cinematográfico\, falecido em 2022. \n
URL:https://www.forumluisatodi.pt/espetaculo/um-lobisomem-americano-em-londres/
CATEGORIES:Cinema
ATTACH;FMTTYPE=image/jpeg:https://www.forumluisatodi.pt/wp-content/uploads/2024/08/LobisomemAmericano.jpg
END:VEVENT
END:VCALENDAR