BEGIN:VCALENDAR
VERSION:2.0
PRODID:-//Fórum Luísa Todi - ECPv4.6.9//NONSGML v1.0//EN
CALSCALE:GREGORIAN
METHOD:PUBLISH
X-WR-CALNAME:Fórum Luísa Todi
X-ORIGINAL-URL:https://www.forumluisatodi.pt
X-WR-CALDESC:Events for Fórum Luísa Todi
BEGIN:VEVENT
DTSTART;TZID=Europe/Lisbon:20190506T210000
DTEND;TZID=Europe/Lisbon:20190506T211000
DTSTAMP:20260421T160252
CREATED:20190417T144520Z
LAST-MODIFIED:20190417T144520Z
UID:68666-1557176400-1557177000@www.forumluisatodi.pt
SUMMARY:UM DIA INESQUECÍVEL
DESCRIPTION:Mussolini e Hitler encontram-se\, pela primeira vez\, a 6 de maio de 1938\, em Roma.\nEsta atmosfera opressora sente-se em todos os cantos da cidade.\nNuma pequena casa\, Antonietta aguarda o regresso do marido que foi celebrar o acontecimento histórico. O destino da mulher irá cruzar-se com o do vizinho\, Gabriele\, um locutor de rádio que foi despedido por ser homossexual.\nEste é o ponto de partida para uma jornada particular\, cheia de emoções e confidências. \n
URL:https://www.forumluisatodi.pt/espetaculo/um-dia-inesquecivel/
CATEGORIES:Cinema
ATTACH;FMTTYPE=image/jpeg:https://www.forumluisatodi.pt/wp-content/uploads/2019/04/Um_Dia_Inesquecivel_site.jpg
END:VEVENT
END:VCALENDAR