BEGIN:VCALENDAR
VERSION:2.0
PRODID:-//Fórum Luísa Todi - ECPv4.6.9//NONSGML v1.0//EN
CALSCALE:GREGORIAN
METHOD:PUBLISH
X-WR-CALNAME:Fórum Luísa Todi
X-ORIGINAL-URL:https://www.forumluisatodi.pt
X-WR-CALDESC:Events for Fórum Luísa Todi
BEGIN:VEVENT
DTSTART;TZID=Europe/Lisbon:20220124T210000
DTEND;TZID=Europe/Lisbon:20220124T230000
DTSTAMP:20260419T225836
CREATED:20211126T111618Z
LAST-MODIFIED:20220119T123814Z
UID:72049-1643058000-1643065200@www.forumluisatodi.pt
SUMMARY:Um Americano em Paris
DESCRIPTION:O soldado Jerry Mulligan  decide ficar em Paris quando a II Grande Guerra Mundial acaba e tentar vingar como pintor. Divide um modesto apartamento com Adam Cook que\, por seu lado\, tenta fazer carreira na música. \nA história complica-se quando o antigo soldado tem de decidir entre o patrocínio de uma sofisticada mulher americana\, Milo Roberts\, e o fascínio pela jovem francesa Lise Bouvier . Para agravar o dilema\, Lise está noiva do seu amigo Henri\, célebre ator do “music-hall”. \nVencedor de seis Óscares (melhor filme\, argumento original\, direção artística\, fotografia\, guarda-roupa e banda sonora)\, “Um Americano em Paris” é um clássico do cinema musical americano assinado por um dos mestres do género\, Vincente Minnelli\, a partir da música de George Gershwin. \n
URL:https://www.forumluisatodi.pt/espetaculo/um-americano-em-paris-2/
CATEGORIES:Cinema
ATTACH;FMTTYPE=image/jpeg:https://www.forumluisatodi.pt/wp-content/uploads/2021/11/Um_Americano_em_Paris.jpg
END:VEVENT
END:VCALENDAR