BEGIN:VCALENDAR
VERSION:2.0
PRODID:-//Fórum Luísa Todi - ECPv4.6.9//NONSGML v1.0//EN
CALSCALE:GREGORIAN
METHOD:PUBLISH
X-WR-CALNAME:Fórum Luísa Todi
X-ORIGINAL-URL:https://www.forumluisatodi.pt
X-WR-CALDESC:Events for Fórum Luísa Todi
BEGIN:VEVENT
DTSTART;TZID=Europe/Lisbon:20241111T210000
DTEND;TZID=Europe/Lisbon:20241111T230000
DTSTAMP:20260420T001303
CREATED:20241022T163112Z
LAST-MODIFIED:20241111T122250Z
UID:77260-1731358800-1731366000@www.forumluisatodi.pt
SUMMARY:Tootsie – Quando Ele Era Ela
DESCRIPTION:Michael Dorsey (Dustin Hoffman) é um ator perfecionista que não consegue emprego devido ao seu temperamento. \nQuando George Fields (Sydney Pollack)\, seu empresário\, diz que ninguém vai contratá-lo por causa do seu génio difícil\, ele resolve vestir-se de mulher. \nCom o nome de Dorothy Michaels\, consegue um papel numa novela diurna que se torna um grande sucesso\, mas existe um problema: ele está se apaixonando por Julie (Jessica Lange)\, uma das atrizes com quem contracena. \nO filme faz parte da masterclass de Lauro António “Cinema Americano\, anos 80”\, com mais de seis dezenas de filmes selecionados pelo antigo cineasta e crítico cinematográfico\, falecido em 2022. \n
URL:https://www.forumluisatodi.pt/espetaculo/tootsie-quando-ela-era-ele/
CATEGORIES:Cinema
ATTACH;FMTTYPE=image/jpeg:https://www.forumluisatodi.pt/wp-content/uploads/2024/10/Tootsie.jpg
END:VEVENT
END:VCALENDAR