BEGIN:VCALENDAR
VERSION:2.0
PRODID:-//Fórum Luísa Todi - ECPv4.6.9//NONSGML v1.0//EN
CALSCALE:GREGORIAN
METHOD:PUBLISH
X-WR-CALNAME:Fórum Luísa Todi
X-ORIGINAL-URL:https://www.forumluisatodi.pt
X-WR-CALDESC:Events for Fórum Luísa Todi
BEGIN:VEVENT
DTSTART;TZID=Europe/Lisbon:20190107T210000
DTEND;TZID=Europe/Lisbon:20190107T211000
DTSTAMP:20260425T124546
CREATED:20181220T143132Z
LAST-MODIFIED:20181220T143132Z
UID:68075-1546894800-1546895400@www.forumluisatodi.pt
SUMMARY:TEMPESTADE SOBRE WASHINGTON
DESCRIPTION:A investigação do senado ao recém-nomeado secretário de Estado (Henry Fonda) pelo presidente norte-americano (Franchot Tone) faz surgir um segredo do passado\, que pode não só arruinar o candidato\, mas também o caráter do presidente. \nFilme baseado na obra de Allen Drury\, “Advise and Consent”\, vencedora de um prémio Pulitzer. \n
URL:https://www.forumluisatodi.pt/espetaculo/tempestade-sobre-washington/
CATEGORIES:Cinema
ATTACH;FMTTYPE=image/jpeg:https://www.forumluisatodi.pt/wp-content/uploads/2018/12/AdviceConsent_site.jpg
END:VEVENT
END:VCALENDAR