BEGIN:VCALENDAR
VERSION:2.0
PRODID:-//Fórum Luísa Todi - ECPv4.6.9//NONSGML v1.0//EN
CALSCALE:GREGORIAN
METHOD:PUBLISH
X-WR-CALNAME:Fórum Luísa Todi
X-ORIGINAL-URL:https://www.forumluisatodi.pt
X-WR-CALDESC:Events for Fórum Luísa Todi
BEGIN:VEVENT
DTSTART;TZID=Europe/Lisbon:20190325T210000
DTEND;TZID=Europe/Lisbon:20190325T211000
DTSTAMP:20260422T061704
CREATED:20190124T172542Z
LAST-MODIFIED:20190129T113821Z
UID:68509-1553547600-1553548200@www.forumluisatodi.pt
SUMMARY:TAXI DRIVER
DESCRIPTION:Travis Bickle\, um veterano da guerra do Vietname\, conduz um táxi em Nova Iorque no turno da noite. Solitário e com insónias\, passa a noite a trabalhar\, testemunhando a vida sórdida das ruas. \nApós sucessivas frustrações\, que incluem um encontro falhado e a tentativa de libertar uma prostituta de catorze anos\, Travis\, numa mistura de revolta e impotência\, decide comprar armas e parte numa cruzada violenta pela cidade. \n
URL:https://www.forumluisatodi.pt/espetaculo/taxi-driver/
CATEGORIES:Cinema
ATTACH;FMTTYPE=image/jpeg:https://www.forumluisatodi.pt/wp-content/uploads/2019/01/Taxi_driver_site.jpg
END:VEVENT
END:VCALENDAR