BEGIN:VCALENDAR
VERSION:2.0
PRODID:-//Fórum Luísa Todi - ECPv4.6.9//NONSGML v1.0//EN
CALSCALE:GREGORIAN
METHOD:PUBLISH
X-WR-CALNAME:Fórum Luísa Todi
X-ORIGINAL-URL:https://www.forumluisatodi.pt
X-WR-CALDESC:Events for Fórum Luísa Todi
BEGIN:VEVENT
DTSTART;TZID=Europe/Lisbon:20220219T210000
DTEND;TZID=Europe/Lisbon:20220219T210000
DTSTAMP:20260423T091702
CREATED:20220121T165255Z
LAST-MODIFIED:20220128T103840Z
UID:72254-1645304400-1645304400@www.forumluisatodi.pt
SUMMARY:Sou Filha das Ervas
DESCRIPTION:Espetáculo intimista baseado nos versos e canções de Amália Rodrigues pelo grupo Maria Monda\, composto por Sofia Portugal\, Susana Quaresma e Tânia Cardos\, acompanhadas por Rodrigo Crespo\, guitarra\, e Catarina Anacleto\, violoncelo. Monda Teatro – Música\, de Lisboa. \nEvento da 3.ª edição do Bambolinices – Bienal de Teatro e Artes Performativas para Toda a Família. \n  \n
URL:https://www.forumluisatodi.pt/espetaculo/sou-filha-das-ervas/
CATEGORIES:Música,Teatro
ATTACH;FMTTYPE=image/jpeg:https://www.forumluisatodi.pt/wp-content/uploads/2022/01/FilhaErvas.jpg
END:VEVENT
END:VCALENDAR