BEGIN:VCALENDAR
VERSION:2.0
PRODID:-//Fórum Luísa Todi - ECPv4.6.9//NONSGML v1.0//EN
CALSCALE:GREGORIAN
METHOD:PUBLISH
X-WR-CALNAME:Fórum Luísa Todi
X-ORIGINAL-URL:https://www.forumluisatodi.pt
X-WR-CALDESC:Events for Fórum Luísa Todi
BEGIN:VEVENT
DTSTART;TZID=Europe/Lisbon:20190311T210000
DTEND;TZID=Europe/Lisbon:20190311T211000
DTSTAMP:20260422T075531
CREATED:20190124T170700Z
LAST-MODIFIED:20190124T170700Z
UID:68497-1552338000-1552338600@www.forumluisatodi.pt
SUMMARY:SLEUTH - AUTÓPSIA DE UM CRIME
DESCRIPTION:Milo Tindle\, um jovem ator desempregado\, visita a mansão de campo do escritor de romances policiais Andrew Wyke para lhe dizer que mantem um romance com mulher dele. \nAndrew confessa-lhe que há muito que aguarda por aquela visita – que considera ideal para cometer o crime perfeito – e propõe a Milo que este roube as joias do cofre da sua mansão\, ficando o dinheiro do seguro para Andrew e as joias e a sua mulher para Milo. \nMilo acede ao desafio\, mas cedo percebe que aquilo pode ter consequências trágicas. \n
URL:https://www.forumluisatodi.pt/espetaculo/sleuth-autopsia-de-um-crime/
CATEGORIES:Cinema
ATTACH;FMTTYPE=image/jpeg:https://www.forumluisatodi.pt/wp-content/uploads/2019/01/Sleuth_autopsia_de_um_crime_site.jpeg
END:VEVENT
END:VCALENDAR