BEGIN:VCALENDAR
VERSION:2.0
PRODID:-//Fórum Luísa Todi - ECPv4.6.9//NONSGML v1.0//EN
CALSCALE:GREGORIAN
METHOD:PUBLISH
X-WR-CALNAME:Fórum Luísa Todi
X-ORIGINAL-URL:https://www.forumluisatodi.pt
X-WR-CALDESC:Events for Fórum Luísa Todi
BEGIN:VEVENT
DTSTART;TZID=Europe/Lisbon:20190119T210000
DTEND;TZID=Europe/Lisbon:20190119T211000
DTSTAMP:20260425T184831
CREATED:20181220T114347Z
LAST-MODIFIED:20181220T114347Z
UID:68040-1547931600-1547932200@www.forumluisatodi.pt
SUMMARY:SINFONIA À JUVENTUDE
DESCRIPTION:A Orquestra Académica Metropolitana interpreta neste programa duas obras que\, pertencendo a universos distintos\, ilustram rumos alternativos às vanguardas musicais que floresceram ao longo do século XX e marcam momentos de transição entre ciclos criativos de ambos os compositores. \nA Sinfonia N.º 4 de Joly Braga Santos\, de 1950\, não esconde a influência das canções tradicionais alentejanas\, à qual não é alheia a circunstância de ter sido composta perto de Reguengos de Monsaraz. \nA obra culminou um trajeto em que o músico procurou a “implementação de um sinfonismo moderno na música portuguesa” e a construção de um estilo musical que “pudesse falar com o homem comum com simplicidade e clareza”\, em palavras que ele próprio usou. \nEsta sinfonia termina com um Hino à Juventude\, “símbolo da união dos jovens de todo o mundo\, através da música”. \nJá o primeiro concerto para violino de Krzysztof Penderecki foi composto na década de 1970\, quando o compositor polaco procurou um diálogo cirúrgico com a estética romântica oitocentista. \nNum único andamento\, surpreende pela continuada sobreposição de referências dispersas\, potencialmente inconciliáveis. \n
URL:https://www.forumluisatodi.pt/espetaculo/sinfonia-a-juventude/
CATEGORIES:Música
ATTACH;FMTTYPE=image/jpeg:https://www.forumluisatodi.pt/wp-content/uploads/2018/12/2019-01-18_-Sinfonia-á-Juventude_site.jpg
END:VEVENT
END:VCALENDAR