BEGIN:VCALENDAR
VERSION:2.0
PRODID:-//Fórum Luísa Todi - ECPv4.6.9//NONSGML v1.0//EN
CALSCALE:GREGORIAN
METHOD:PUBLISH
X-WR-CALNAME:Fórum Luísa Todi
X-ORIGINAL-URL:https://www.forumluisatodi.pt
X-WR-CALDESC:Events for Fórum Luísa Todi
BEGIN:VEVENT
DTSTART;TZID=Europe/Lisbon:20210821T210000
DTEND;TZID=Europe/Lisbon:20210821T220000
DTSTAMP:20260422T115057
CREATED:20210806T134732Z
LAST-MODIFIED:20210810T120211Z
UID:71635-1629579600-1629583200@www.forumluisatodi.pt
SUMMARY:Siempreviva
DESCRIPTION:“Siempreviva” é o primeiro solo de dança e teatro da diretora coreógrafa Mar Gómez. Um espetáculo interdisciplinar\, com música ao vivo\, que se move entre o realismo e a paródia. \nA Immortelle é uma planta perene\, muito resistente a condições de cultivo mais difíceis. Uma sobrevivente. Como protagonista do novo espetáculo da Cia. Mar Gómez\, um personagem que levanta\, de forma humorística\, a bizarra história de uma mulher presa nos valores sexistas da sociedade atual. \nUma realidade em que coexiste\, por um lado\, o impulso ascendente feminista e\, por outro lado\, um substrato cultural de um sexismo recalcitrante. Duas realidades opostas que se manifestam em paralelo. \n
URL:https://www.forumluisatodi.pt/espetaculo/siempreviva/
CATEGORIES:Teatro
ATTACH;FMTTYPE=image/jpeg:https://www.forumluisatodi.pt/wp-content/uploads/2021/08/Siempreviva.jpg
END:VEVENT
END:VCALENDAR