BEGIN:VCALENDAR
VERSION:2.0
PRODID:-//Fórum Luísa Todi - ECPv4.6.9//NONSGML v1.0//EN
CALSCALE:GREGORIAN
METHOD:PUBLISH
X-WR-CALNAME:Fórum Luísa Todi
X-ORIGINAL-URL:https://www.forumluisatodi.pt
X-WR-CALDESC:Events for Fórum Luísa Todi
BEGIN:VEVENT
DTSTART;TZID=Europe/Lisbon:20240612T183000
DTEND;TZID=Europe/Lisbon:20240612T193000
DTSTAMP:20260419T223257
CREATED:20240606T144833Z
LAST-MODIFIED:20240606T144833Z
UID:74978-1718217000-1718220600@www.forumluisatodi.pt
SUMMARY:SER A (r)EVOLUÇÃO
DESCRIPTION:  \nQue caminho fazemos até à transformação? Até sermos a nossa própria revolução? Acreditamos num futuro alimentado por uma metamorfose individual e coletiva na qual a palavra dita\, cantada\, se transforma em ação\, em verbo – em urgência\, porque acreditamos que para essa revolução “é urgente o amor”. \n“SER A (r)EVOLUÇÃO” é um espetáculo que desenha o percurso artístico e pedagógico percorrido ao longo deste ano letivo\, a par e passo com a programação do nosso Projeto Cultural de Escola. \nConvocámos referências\, questionámos\, criámos diálogos com artistas\, explorámos e investigámos hipóteses sobre este lugar de liberdade em que hoje podemos habitar. \n
URL:https://www.forumluisatodi.pt/espetaculo/ser-a-revolucao/
CATEGORIES:Música
ATTACH;FMTTYPE=image/jpeg:https://www.forumluisatodi.pt/wp-content/uploads/2024/06/SeraRevolucao.jpg
END:VEVENT
END:VCALENDAR