BEGIN:VCALENDAR
VERSION:2.0
PRODID:-//Fórum Luísa Todi - ECPv4.6.9//NONSGML v1.0//EN
CALSCALE:GREGORIAN
METHOD:PUBLISH
X-WR-CALNAME:Fórum Luísa Todi
X-ORIGINAL-URL:https://www.forumluisatodi.pt
X-WR-CALDESC:Events for Fórum Luísa Todi
BEGIN:VEVENT
DTSTART;TZID=Europe/Lisbon:20211113T210000
DTEND;TZID=Europe/Lisbon:20211113T223000
DTSTAMP:20260419T213042
CREATED:20211022T085637Z
LAST-MODIFIED:20211022T093601Z
UID:71901-1636837200-1636842600@www.forumluisatodi.pt
SUMMARY:Schubert / Mozart
DESCRIPTION:Começamos com a mais popular sinfonia de Franz Schubert. Chamamos-lhe Incompleta\, por nos terem chegado somente dois andamentos. Apesar disso\, foi escrita seis anos antes da morte do compositor austríaco\, o que demonstra bem que o seu método de trabalho era pleno de hesitações\, sempre em busca da perfeição.  \nE\, porque de perfeição se trata\, recuamos depois até Wolfgang Amadeus Mozart. Primeiro\, com o Andante para flauta e orquestra composto durante os meses que Mozart permaneceu em Mannheim\, em 1778. Há quem relacione a sua melodia com a cena d’A Flauta Mágica em que Tamino\, acompanhado por Tamina e sob a proteção do som da flauta\, consegue vencer as provas da água e do fogo. Por fim\, os três andamentos da Sinfonia Praga\, o nome da cidade que soube abraçar os últimos anos de vida do músico de uma forma que Viena nunca chegou a fazer. \n  \n  \n
URL:https://www.forumluisatodi.pt/espetaculo/schubert-mozart/
CATEGORIES:Música
ATTACH;FMTTYPE=image/jpeg:https://www.forumluisatodi.pt/wp-content/uploads/2021/10/Rossana_Valente.jpg
END:VEVENT
END:VCALENDAR