BEGIN:VCALENDAR
VERSION:2.0
PRODID:-//Fórum Luísa Todi - ECPv4.6.9//NONSGML v1.0//EN
CALSCALE:GREGORIAN
METHOD:PUBLISH
X-WR-CALNAME:Fórum Luísa Todi
X-ORIGINAL-URL:https://www.forumluisatodi.pt
X-WR-CALDESC:Events for Fórum Luísa Todi
BEGIN:VEVENT
DTSTART;TZID=Europe/Lisbon:20240408T210000
DTEND;TZID=Europe/Lisbon:20240408T223000
DTSTAMP:20260419T223028
CREATED:20231211T123107Z
LAST-MODIFIED:20240404T124801Z
UID:74490-1712610000-1712615400@www.forumluisatodi.pt
SUMMARY:São Jorge
DESCRIPTION:Jorge (Nuno Lopes) é um pugilista desempregado que tenta a todo o custo encontrar formas de garantir o sustento de Susana e Nélson (Mariana Nunes e David Semedo\, respetivamente)\, a mulher e o filho. \nQuando ela\, imigrante brasileira\, decide fugir da crise financeira que se instalou em Portugal e regressar ao seu país\, Jorge fica sem saber o que fazer. \nComo último recurso\, aceita um trabalho numa empresa de cobrança de dívidas. Usando o seu corpo treinado para a luta corpo a corpo\, passa a intimidar pessoas que\, tal como ele\, se encontram numa situação desesperada. \nDe um momento para o outro\, vê-se a atravessar a fronteira da moralidade e a entrar num mundo de criminalidade gerada pela pobreza e pela falta de alternativas. \n
URL:https://www.forumluisatodi.pt/espetaculo/sao-jorge/
CATEGORIES:Cinema
ATTACH;FMTTYPE=image/png:https://www.forumluisatodi.pt/wp-content/uploads/2023/12/SaoJorge.png
END:VEVENT
END:VCALENDAR