BEGIN:VCALENDAR
VERSION:2.0
PRODID:-//Fórum Luísa Todi - ECPv4.6.9//NONSGML v1.0//EN
CALSCALE:GREGORIAN
METHOD:PUBLISH
X-WR-CALNAME:Fórum Luísa Todi
X-ORIGINAL-URL:https://www.forumluisatodi.pt
X-WR-CALDESC:Events for Fórum Luísa Todi
BEGIN:VEVENT
DTSTART;TZID=Europe/Lisbon:20220406T210000
DTEND;TZID=Europe/Lisbon:20220406T210000
DTSTAMP:20260424T055946
CREATED:20220225T150715Z
LAST-MODIFIED:20220225T152100Z
UID:72408-1649278800-1649278800@www.forumluisatodi.pt
SUMMARY:Salvador Sobral
DESCRIPTION:Durante a digressão de apresentação do disco “bpm”\, Salvador Sobral convocou o guitarrista da irmã Luísa para substituir o titular André Santos nalgumas datas ao vivo\, por apreciar o timbre do instrumento\, por ele cantar bem e por ele lhe parecer “boa onda”. \nManuel Rocha assumiu desta forma aquela função\, por vezes ingrata\, de ser o segundo guitarrista duma banda. \nA verdade é que\, nas palavras de Salvador Sobral\, “os dois representam mundos completamente distintos\, com timbres e estilos diferentes\, mas ambos muito musicais e emocionais”. \nO André e o Manuel estarão por isso agora em palco\, para dedilharem em conjunto as cordas que vão acompanhar a voz do Salvador e protagonizarem concertos muito especiais a convite do festival Soam as Guitarras. \n
URL:https://www.forumluisatodi.pt/espetaculo/salvador-sobral/
CATEGORIES:Música
ATTACH;FMTTYPE=image/jpeg:https://www.forumluisatodi.pt/wp-content/uploads/2022/02/Salvador_Sobral.jpg
END:VEVENT
END:VCALENDAR