BEGIN:VCALENDAR
VERSION:2.0
PRODID:-//Fórum Luísa Todi - ECPv4.6.9//NONSGML v1.0//EN
CALSCALE:GREGORIAN
METHOD:PUBLISH
X-WR-CALNAME:Fórum Luísa Todi
X-ORIGINAL-URL:https://www.forumluisatodi.pt
X-WR-CALDESC:Events for Fórum Luísa Todi
BEGIN:VEVENT
DTSTART;TZID=Europe/Lisbon:20231113T210000
DTEND;TZID=Europe/Lisbon:20231113T223000
DTSTAMP:20260423T090142
CREATED:20230928T155108Z
LAST-MODIFIED:20231113T195234Z
UID:74188-1699909200-1699914600@www.forumluisatodi.pt
SUMMARY:Saltimbancos
DESCRIPTION:Primeira longa-metragem de Manuel Guimarães (também produtor)\, “Saltimbancos” marcou a diferença no cinema português do começo da década de cinquenta relativamente às comédias “à portuguesa” que então se faziam\, procurando aproximar-se dos modelos do neorrealismo italiano\, numa história adaptada do romance “O Circo”\, de Leão Penedo\, sobre a vida e a morte de uma companhia de saltimbancos. \nA obra conta a história de uma equipa circense e como sobrevive em tempos de dificuldades e decadência. \n
URL:https://www.forumluisatodi.pt/espetaculo/saltimbancos/
CATEGORIES:Cinema
ATTACH;FMTTYPE=image/png:https://www.forumluisatodi.pt/wp-content/uploads/2023/09/Saltimbancos.png
END:VEVENT
END:VCALENDAR