BEGIN:VCALENDAR
VERSION:2.0
PRODID:-//Fórum Luísa Todi - ECPv4.6.9//NONSGML v1.0//EN
CALSCALE:GREGORIAN
METHOD:PUBLISH
X-WR-CALNAME:Fórum Luísa Todi
X-ORIGINAL-URL:https://www.forumluisatodi.pt
X-WR-CALDESC:Events for Fórum Luísa Todi
BEGIN:VEVENT
DTSTART;TZID=Europe/Lisbon:20220414T210000
DTEND;TZID=Europe/Lisbon:20220414T220000
DTSTAMP:20260424T084254
CREATED:20220302T143511Z
LAST-MODIFIED:20220302T151310Z
UID:72427-1649970000-1649973600@www.forumluisatodi.pt
SUMMARY:Rui Massena
DESCRIPTION:Depois de se ter afirmado durante anos como maestro e diretor de orquestra\, Rui Massena tem vindo a construir uma sólida carreira como compositor e pianista. \nA vasta experiência musical\, que se traduz na edição de três álbuns e um EP – Solo (2015)\, Ensemble (2016)\, III (2018) e 20 PERCEPTION (2021)\, estes dois últimos editados pela Deutsche Grammophone – e concertos nas mais prestigiadas salas dentro e fora de portas\, dá-lhe uma bagagem invejável e singular\, que se traduz num fascinante universo de melodias. \nA sua música está hoje presente nalgumas das mais importantes playlists mundiais da corrente Modern Classic e o seu nome é referido entre os expoentes de um género que agrega cada vez mais seguidores em todo o mundo. \nEm 2021\, para assinalar o Dia Mundial do Piano\, Rui Massena foi um dos artistas escolhidos pela Deutsche Grammophon para integrar um concerto especial\, fazendo parte de uma verdadeira seleção estelar dos maiores pianistas que o presente tem para oferecer à história\, figurando o seu nome ao lado de referências contemporâneas do instrumento como Lang Lang\, Maria João Pires ou Joep Beving. \nNeste espetáculo\, Rui Massena aborda o reportório de forma intimista\, através de uma seleção pessoal de temas dos quatro discos editados\, abrindo também a porta à apresentação de novas canções. \n  \n“Preciso de voltar a ouvir as minhas canções ao piano. Já lá vão quatro discos e seis anos desde que comecei este novo caminho. Em novembro de 2014 fiz os meus primeiros concertos a solo na Casa da Música e no CCB\, ainda sem disco gravado. Quero agora ouvir como o silêncio mudou\, como se alterou a visão da minha própria música\, como a minha alma mudou. Quanto tempo tem agora cada música\, cada gesto\, cada reação\, cada aplauso. Senti-lo. Percebê-lo e deixar-me ir.”\nRui Massena \n \n
URL:https://www.forumluisatodi.pt/espetaculo/rui-massena/
CATEGORIES:Música
ATTACH;FMTTYPE=image/jpeg:https://www.forumluisatodi.pt/wp-content/uploads/2022/03/RuiMassena.jpg
END:VEVENT
END:VCALENDAR