BEGIN:VCALENDAR
VERSION:2.0
PRODID:-//Fórum Luísa Todi - ECPv4.6.9//NONSGML v1.0//EN
CALSCALE:GREGORIAN
METHOD:PUBLISH
X-WR-CALNAME:Fórum Luísa Todi
X-ORIGINAL-URL:https://www.forumluisatodi.pt
X-WR-CALDESC:Events for Fórum Luísa Todi
BEGIN:VEVENT
DTSTART;TZID=Europe/Lisbon:20241013T110000
DTEND;TZID=Europe/Lisbon:20241013T123000
DTSTAMP:20260420T013617
CREATED:20240821T152409Z
LAST-MODIFIED:20240821T152409Z
UID:75114-1728817200-1728822600@www.forumluisatodi.pt
SUMMARY:Rapunzel
DESCRIPTION:A grande heroína desta estória vai recordar-nos que todos – mulheres\, homens\, mas mesmo todos – temos sempre a possibilidade de sermos livres e felizes. Para tal\, temos de ter bravura e coragem\, mas\, acima de tudo\, um grande coração e uma enorme capacidade de amar! \nNesta estória o destaque da música será enorme porque teremos em palco dois instrumentos magníficos. A harpa\, que nos faz sempre sonhar\, e o violino\, que nos vai ajudar a transportar para uma floresta cheia de perigos\, aventuras e muitas surpresas! \nVamos Tocar Estórias \nVamos Tocar Estórias no Fórum Luísa Todi em 2024! \nNuma cidade onde a música é uma constante\, vão descobrir ou recordar instrumentos das famílias das cordas e dos sopros que irão ajudar a contar as estórias bem conhecidas do imaginário infantil. \nNeste ano tão especial em que celebramos cinquenta anos das conquistas de Abril\, escolhemos estórias que\, de certa forma\, simbolizam algumas delas. O Touro Ferdinando tem todo o direito a passear e cheirar flores; o Burro\, o Cão\, o Gato e o Galo dos Músicos de Bremen não são inúteis por serem velhos; e a Rapunzel tem de ser livre e perseguir os seus sonhos. \nComo sempre\, o Vamos Tocar Estórias quer conquistar-vos a todos! Recordar-vos que a Arte é cada vez mais importante nas nossas vidas tornando-nos seres humanos melhores. Com esta iniciativa pretendemos aproximar os músicos do público e o público dos músicos. \nJá conhecem a nossa anfitriã\, a Susana\, que vos escuta com atenção\, que vos conta estórias\, apresenta os instrumentos e também vos revela muitos segredos da música. \nVenham ter connosco aos domingos pela manhã\, mesmo antes da hora de almoço e terão\, de certeza\, um início de semana muito feliz\, porque a vida com música\, com todas as formas de arte\, é muito mais bonita! \n
URL:https://www.forumluisatodi.pt/espetaculo/rapunzel/
CATEGORIES:Crianças
ATTACH;FMTTYPE=image/jpeg:https://www.forumluisatodi.pt/wp-content/uploads/2024/08/Rapunzel.jpg
END:VEVENT
END:VCALENDAR