BEGIN:VCALENDAR
VERSION:2.0
PRODID:-//Fórum Luísa Todi - ECPv4.6.9//NONSGML v1.0//EN
CALSCALE:GREGORIAN
METHOD:PUBLISH
X-WR-CALNAME:Fórum Luísa Todi
X-ORIGINAL-URL:https://www.forumluisatodi.pt
X-WR-CALDESC:Events for Fórum Luísa Todi
BEGIN:VEVENT
DTSTART;TZID=Europe/Lisbon:20211014T213000
DTEND;TZID=Europe/Lisbon:20211014T223000
DTSTAMP:20260420T062224
CREATED:20210920T164142Z
LAST-MODIFIED:20210922T104257Z
UID:71707-1634247000-1634250600@www.forumluisatodi.pt
SUMMARY:RAPSÓDIA SATÂNICA
DESCRIPTION:A obra de Nino Oxilia\, de 1917\, é musicada ao vivo pelos Mão Morta Redux\, com Adolfo Luxúria a fazer a locução de intertítulos em português. \nEvento da Sessão de Abertura da 3.ª edição do Film Fest – Festival de Cinema Musicado ao Vivo. \nSinopse de “Rapsódia Satânica” \nA Condessa Alba d’Oltrevita\, uma mulher idosa\, invejosa da juventude e da beleza em seu redor\, tem a oportunidade de rejuvenescer\, facilmente persuadida a firmar um pacto faustiano. \nA obra-prima de Nino Oxilia é um intenso romance sobrenatural – uma versão feminina de Fausto\, interpretada por Lydia Borelli – uma das atrizes favoritas do cinema mudo italiano da época. Totalmente arrebatador\, “Rapsódia Satânica” cumpre a promessa do cinema inicial enquanto espetáculo estético\, ao criar um mundo inesquecível e onírico de sumptuoso melodrama. \n  \nCovid-19 | Plano de Contingência do Fórum Municipal Luísa Todi \n
URL:https://www.forumluisatodi.pt/espetaculo/rapsodia-satanica/
CATEGORIES:Música,Cinema
ATTACH;FMTTYPE=image/jpeg:https://www.forumluisatodi.pt/wp-content/uploads/2021/09/Rapsodia_satanica.jpg
END:VEVENT
END:VCALENDAR