BEGIN:VCALENDAR
VERSION:2.0
PRODID:-//Fórum Luísa Todi - ECPv4.6.9//NONSGML v1.0//EN
CALSCALE:GREGORIAN
METHOD:PUBLISH
X-WR-CALNAME:Fórum Luísa Todi
X-ORIGINAL-URL:https://www.forumluisatodi.pt
X-WR-CALDESC:Events for Fórum Luísa Todi
BEGIN:VEVENT
DTSTART;TZID=Europe/Lisbon:20220226T210000
DTEND;TZID=Europe/Lisbon:20220226T210000
DTSTAMP:20260423T154336
CREATED:20220128T123353Z
LAST-MODIFIED:20220128T140432Z
UID:72283-1645909200-1645909200@www.forumluisatodi.pt
SUMMARY:Quinteto Luís Cunha
DESCRIPTION:  \nEste é o primeiro disco do trompetista Luís Cunha como líder. O que podemos ouvir neste projeto são composições originais cuja interpretação única se deve tanto à contribuição pessoal como à cumplicidade entre os músicos. \nO quinteto é formado por Luís Cunha no trompete e composição\, Nuno Costa na guitarra\, Óscar Graça no piano\, André Rosinha no contrabaixo e André Sousa Machado na bateria. \nLuís Cunha “Faro Oeste” é um disco editado pela editora independente Roda Música. \n
URL:https://www.forumluisatodi.pt/espetaculo/quinteto-luis-cunha/
CATEGORIES:Música
ATTACH;FMTTYPE=image/jpeg:https://www.forumluisatodi.pt/wp-content/uploads/2022/01/Quinteto_Luis_Cunha.jpg
END:VEVENT
END:VCALENDAR