BEGIN:VCALENDAR
VERSION:2.0
PRODID:-//Fórum Luísa Todi - ECPv4.6.9//NONSGML v1.0//EN
CALSCALE:GREGORIAN
METHOD:PUBLISH
X-WR-CALNAME:Fórum Luísa Todi
X-ORIGINAL-URL:https://www.forumluisatodi.pt
X-WR-CALDESC:Events for Fórum Luísa Todi
BEGIN:VEVENT
DTSTART;TZID=Europe/Lisbon:20190211T210000
DTEND;TZID=Europe/Lisbon:20190211T211000
DTSTAMP:20260423T175604
CREATED:20190114T114421Z
LAST-MODIFIED:20190114T114421Z
UID:68270-1549918800-1549919400@www.forumluisatodi.pt
SUMMARY:QUEM TEM MEDO DE VIRGINIA WOOLF
DESCRIPTION:O professor de História George (Richard Burton) e embriagada mulher Martha (Elizabeth Taylor) regressam tarde de uma festa na casa do pai de Martha\, o presidente da faculdade. \nMartha informa que convidou outro casal\, o recém-nomeado instrutor Nick (George Segal) e tímida esposa Honey (Sandy Dennis) para uma última bebida. \nQuando o jovem casal chega\, Martha e George\, com a ajuda do álcool\, despejam as angústias e a dor emocional que sentem em relação um ao outro. \n
URL:https://www.forumluisatodi.pt/espetaculo/quem-tem-medo-de-virginia-woolf/
CATEGORIES:Cinema
ATTACH;FMTTYPE=image/jpeg:https://www.forumluisatodi.pt/wp-content/uploads/2019/01/QuemTemMedoDeVirginiaWoolf_site.jpg
END:VEVENT
END:VCALENDAR