BEGIN:VCALENDAR
VERSION:2.0
PRODID:-//Fórum Luísa Todi - ECPv4.6.9//NONSGML v1.0//EN
CALSCALE:GREGORIAN
METHOD:PUBLISH
X-WR-CALNAME:Fórum Luísa Todi
X-ORIGINAL-URL:https://www.forumluisatodi.pt
X-WR-CALDESC:Events for Fórum Luísa Todi
BEGIN:VEVENT
DTSTART;TZID=Europe/Lisbon:20230521T180000
DTEND;TZID=Europe/Lisbon:20230521T200000
DTSTAMP:20260424T152329
CREATED:20230411T150042Z
LAST-MODIFIED:20230411T150042Z
UID:73947-1684692000-1684699200@www.forumluisatodi.pt
SUMMARY:Pulsat Percussion Group
DESCRIPTION:O Festival Internacional de Música de Setúbal apresenta Pulsat Percussion Group com a participação de alunos do Conservatório Regional de Setúbal. \nPulsat Percussion Group\, fundado em março de 2012\, procura promover a música contemporânea para percussão\, com recurso a novas abordagens da experimentação. \nFoi desde logo premiado com o 2.º lugar no Prémio Jovens Músicos\, na categoria de Música de Câmara\, nível superior\, seguindo-se o 2.º prémio no III Concurso Internacional de Música de Câmara Cidade de Alcobaça (CIMCA)\, em 2013. \nParticipou no International Percussion Competition Luxembourg (2015)\, tendo alcançado a semifinal. De entre as suas atuações\, destacam-se os concertos no Harmos Festival\, na Casa da Música; no Teatro Helena Sá e Costa\, no âmbito do Euroclassical; no Auditório de Espinho\, num concerto de apresentação de várias obras originais para percussão de autores portugueses; no festival Via Stellae\, em Santiago de Compostela; no 9.º Festival Internacional de Percussão “Dinçer özer”\, em Ankara; no Festival Internacional de Música da Primavera de Viseu; no I Festival Internacional de Percussão do Alentejo Central em Reguengos de Monsaraz; no Concurso Internacional de Percussão – Gondomar 2018; na Casa da Música; no Festival Cem Portas em Coimbra. \nEntre os vários compositores do reportório do Pulsat Percussion Group elegem-se obras de Aurél Holló\, John Cage\, Christopher Deane\, Lukas Ligeti\, Michael Laurello\, Steve Reich\, João Pacheco\, Jorge Prendas\, Igor Silva\, Daniel Bernardes\, Paulo Perfeito e Daniel Martinho. \nA qualidade musical da sua performance surpreende todos os presentes\, elevando a música contemporânea nacional e internacional ao mais alto nível. \n
URL:https://www.forumluisatodi.pt/espetaculo/pulsat-percussion-group/
CATEGORIES:Música
ATTACH;FMTTYPE=image/png:https://www.forumluisatodi.pt/wp-content/uploads/2023/04/Pulsat.png
END:VEVENT
END:VCALENDAR