BEGIN:VCALENDAR
VERSION:2.0
PRODID:-//Fórum Luísa Todi - ECPv4.6.9//NONSGML v1.0//EN
CALSCALE:GREGORIAN
METHOD:PUBLISH
X-WR-CALNAME:Fórum Luísa Todi
X-ORIGINAL-URL:https://www.forumluisatodi.pt
X-WR-CALDESC:Events for Fórum Luísa Todi
BEGIN:VEVENT
DTSTART;TZID=Europe/Lisbon:20220410T210000
DTEND;TZID=Europe/Lisbon:20220410T220000
DTSTAMP:20260422T223057
CREATED:20220121T110647Z
LAST-MODIFIED:20220121T110647Z
UID:72336-1649624400-1649628000@www.forumluisatodi.pt
SUMMARY:Processo
DESCRIPTION:Depois da web-série\, o espetáculo de stand up comedy de Diogo Batáguas nos palcos. \nDiogo Batáguas é um humorista que se vê envolvido em diversos processos judiciais e que é processado por um famoso artista pop\, por um juiz mediático e com várias outras ameaças à perna. \nNo espetáculo\, o Diogo procura a sua defesa e mostra o seu ponto de vista sobre a situação em que se viu enredado. Quais as suas dificuldades\, dúvidas\, questões relativas à liberdade de expressão e diligências jurídicas\, numa construção de monólogo humorístico\, em que fará uma introspeção relativamente àquilo que foi a sua conduta. \nDas suas próprias dúvidas e tentações\, sairá a sua verdade. \n
URL:https://www.forumluisatodi.pt/espetaculo/processo/2022-04-10/
CATEGORIES:Outros
ATTACH;FMTTYPE=image/jpeg:https://www.forumluisatodi.pt/wp-content/uploads/2022/01/DiogoBataguas.jpg
END:VEVENT
END:VCALENDAR