BEGIN:VCALENDAR
VERSION:2.0
PRODID:-//Fórum Luísa Todi - ECPv4.6.9//NONSGML v1.0//EN
CALSCALE:GREGORIAN
METHOD:PUBLISH
X-WR-CALNAME:Fórum Luísa Todi
X-ORIGINAL-URL:https://www.forumluisatodi.pt
X-WR-CALDESC:Events for Fórum Luísa Todi
BEGIN:VEVENT
DTSTART;TZID=Europe/Lisbon:20190412T213000
DTEND;TZID=Europe/Lisbon:20190412T213000
DTSTAMP:20260422T204315
CREATED:20190123T122026Z
LAST-MODIFIED:20190123T122026Z
UID:68457-1555104600-1555104600@www.forumluisatodi.pt
SUMMARY:Por Terras do Zeca
DESCRIPTION:Este trabalho é um tributo à obra de José Afonso\, quer como compositor\, quer como poeta. \nAssim\, apresentamos um espetáculo rico\, desde as suas composições mais conhecidas\, como “Verdes são os campos”\, “Que amor não me engana”\, “Índios de meia praia” e “Venham mais cinco”\, que surgem revestidas de novos arranjos\, a temas originais baseados na sua figura\, bem como outras composições menos conhecidas pelo público\, como são exemplo “Papuça”\, “Lá no Xepangara” e “Ali está o rio”. \nO espetáculo conta com interpretações em vários formatos\, nomeadamente em dueto\, quarteto e a solo\, e tem uma duração aproximada de uma hora e vinte minutos. \nEsta digressão conta com as vozes dos cantores Zeca Medeiros\, Filipa Pais\, Maria Anadon e João Afonso\, acompanhados por músicos conceituados\, nomeadamente\, Armindo Neves (guitarra eléctrica)\, Pedro Batalha (baixo) e André Sousa Machado (bateria)\, além do mentor e diretor musical Davide Zaccaria (guitarra acústica e violoncelo). \n
URL:https://www.forumluisatodi.pt/espetaculo/por-terras-do-zeca/
CATEGORIES:Música
ATTACH;FMTTYPE=image/jpeg:https://www.forumluisatodi.pt/wp-content/uploads/2019/01/ZecaAfonso.jpg
END:VEVENT
END:VCALENDAR