BEGIN:VCALENDAR
VERSION:2.0
PRODID:-//Fórum Luísa Todi - ECPv4.6.9//NONSGML v1.0//EN
CALSCALE:GREGORIAN
METHOD:PUBLISH
X-WR-CALNAME:Fórum Luísa Todi
X-ORIGINAL-URL:https://www.forumluisatodi.pt
X-WR-CALDESC:Events for Fórum Luísa Todi
BEGIN:VEVENT
DTSTART;TZID=Europe/Lisbon:20241012T210000
DTEND;TZID=Europe/Lisbon:20241012T223000
DTSTAMP:20260420T001247
CREATED:20240912T113714Z
LAST-MODIFIED:20240912T141049Z
UID:75148-1728766800-1728772200@www.forumluisatodi.pt
SUMMARY:Por Terras de Itália
DESCRIPTION:  \nA Sinfonia Italiana é uma das peças mais populares de todo o repertório orquestral. O nome deve-se à viagem que levou o jovem Mendelssohn a passear-se por cidades como Veneza\, Florença\, Milão\, Roma e Nápoles. \nHá evidência de que alguns excertos estão associados a experiências vividas\, tais como o Saltarelo do último andamento. \nNaqueles anos\, em inícios da década de 1830\, Rossini vivia luxuosamente em Paris e surpreendera todos ao deixar de compor com apenas 37 anos de idade. \nA farsa Il Signor Bruschino havia sido estreada em 1813\, num teatro de Veneza. Já em 1917\, em Roma\, Ottorino Respighi baseou-se em quatro peças para alaúde de finais do século XVI para recriar sonoridades antigas à luz dos “novos tempos”. \nG. Rossini Abertura da farsa Il Signor Bruschino \nO. Respighi Árias e Danças Antigas para Alaúde\, Suíte N.º 1 \nF. Mendelssohn Sinfonia N.º 4\, Italiana (rev. 1834) \nDireção Musical: Jean-Marc Burfin e/ou Alunos de Direção de Orquestra – ANSO \nPROGRAMA \nGioacchino Rossini (1792-1868)\nAbertura da farsa Il Signor Bruschino (1813)\n5 min. \nOttorino Respighi (1879-1936)\nÁrias e Danças Antigas para Alaúde\, Suíte N.º 1 (1917)\n15 min.\nI. Balletto: “Il Conte Orlando” (Simone Molinaro\, 1599)\nII. Gagliarda (Vincenzo Galilei\, 1550s)\nIII. Villanella (anónimo\, finais do século XVI)\nIV. Passo mezzo e mascherada (anónimo\, finais do século XVI) \nFelix Mendelssohn (1809-1847)\nSinfonia N.º 4 em Lá Maior\, Op. 90\, Italiana (1833)\n28 min.\nI. Allegro vivace\nII. Andante con moto\nIII. Minuetto: Con moto moderato\nIV. Saltarello: Presto \n
URL:https://www.forumluisatodi.pt/espetaculo/por-terras-de-italia/
CATEGORIES:Música
ATTACH;FMTTYPE=image/jpeg:https://www.forumluisatodi.pt/wp-content/uploads/2024/09/OMA-TerrasItalia.jpg
END:VEVENT
END:VCALENDAR