BEGIN:VCALENDAR
VERSION:2.0
PRODID:-//Fórum Luísa Todi - ECPv4.6.9//NONSGML v1.0//EN
CALSCALE:GREGORIAN
METHOD:PUBLISH
X-WR-CALNAME:Fórum Luísa Todi
X-ORIGINAL-URL:https://www.forumluisatodi.pt
X-WR-CALDESC:Events for Fórum Luísa Todi
BEGIN:VEVENT
DTSTART;TZID=Europe/Lisbon:20220320T210000
DTEND;TZID=Europe/Lisbon:20220320T220000
DTSTAMP:20260424T103142
CREATED:20220304T120528Z
LAST-MODIFIED:20220304T120528Z
UID:72434-1647810000-1647813600@www.forumluisatodi.pt
SUMMARY:Poesia em... Bocage
DESCRIPTION:A Fundação INATEL comemora\, pelo 8.º ano\, o Dia Mundial da Poesia\, através de uma homenagem a um poeta e prosseguindo a missão no âmbito da salvaguarda do património cultural imaterial e\, em particular\, do património literário português. \nDando continuidade a esta iniciativa homenageando um poeta\, a Fundação INATEL\, em 2022\, promove “Poesia em… Bocage”\, num tributo ao escritor\, elegendo a cidade de Setúbal como palco privilegiado\, obedecendo ao espírito do evento de celebração coletiva e de convite à partilha da vida e obra do poeta com a comunidade local. \nUm espetáculo onde estão plasmadas as várias facetas da obra de Bocage: a irreverência\, a política\, o amor e a paixão\, o próprio poeta\, o cárcere…\, com momentos hip hop\, poemas musicados\, vídeo\, poemas ditos por várias pessoas da comunidade e do mundo do espetáculo. \nUm espetáculo em que os protagonistas são as palavras de Manuel Maria du Bocage. \n
URL:https://www.forumluisatodi.pt/espetaculo/poesia-em-bocage/
CATEGORIES:Outros
ATTACH;FMTTYPE=image/png:https://www.forumluisatodi.pt/wp-content/uploads/2022/03/PoesiaEmBocage.png
END:VEVENT
END:VCALENDAR