BEGIN:VCALENDAR
VERSION:2.0
PRODID:-//Fórum Luísa Todi - ECPv4.6.9//NONSGML v1.0//EN
CALSCALE:GREGORIAN
METHOD:PUBLISH
X-WR-CALNAME:Fórum Luísa Todi
X-ORIGINAL-URL:https://www.forumluisatodi.pt
X-WR-CALDESC:Events for Fórum Luísa Todi
BEGIN:VEVENT
DTSTART;TZID=Europe/Lisbon:20220115T210000
DTEND;TZID=Europe/Lisbon:20220115T220000
DTSTAMP:20260422T132708
CREATED:20211206T162155Z
LAST-MODIFIED:20220107T104536Z
UID:72117-1642280400-1642284000@www.forumluisatodi.pt
SUMMARY:Perfeitos Desconhecidos
DESCRIPTION:Um grupo de amigos de longa data organiza um jantar. A anfitriã propõe um jogo: cada um deixa o telemóvel sobre a mesa e cada mensagem ou chamada que chega é lida e ouvida por todos\, afinal entre amigos não há segredos. \nAlguém tem algo a esconder? Jogamos?  \nA partir deste momento as surpresas e reviravoltas sucedem-se em espiral.  \nAlternando entre o drama e a comédia\, os segredos de cada um serão revelados\, no final da noite nada será como dantes e os amigos descobrem que são\, afinal\, “Perfeitos Desconhecidos”. \n
URL:https://www.forumluisatodi.pt/espetaculo/perfeitos-desconhecidos/
CATEGORIES:Teatro
ATTACH;FMTTYPE=image/jpeg:https://www.forumluisatodi.pt/wp-content/uploads/2021/12/Perfeitos_Desconhecidos_Luisa_Todi_BOL.jpg
END:VEVENT
END:VCALENDAR