BEGIN:VCALENDAR
VERSION:2.0
PRODID:-//Fórum Luísa Todi - ECPv4.6.9//NONSGML v1.0//EN
CALSCALE:GREGORIAN
METHOD:PUBLISH
X-WR-CALNAME:Fórum Luísa Todi
X-ORIGINAL-URL:https://www.forumluisatodi.pt
X-WR-CALDESC:Events for Fórum Luísa Todi
BEGIN:VEVENT
DTSTART;TZID=Europe/Lisbon:20230624T213000
DTEND;TZID=Europe/Lisbon:20230624T230000
DTSTAMP:20260424T041633
CREATED:20230530T134729Z
LAST-MODIFIED:20230530T150641Z
UID:74029-1687642200-1687647600@www.forumluisatodi.pt
SUMMARY:Pêndulo
DESCRIPTION:Como se relacionam as trabalhadoras imigrantes com as famílias para as quais trabalham? E como são afetadas por essa relação? Como se vive a necessidade de deixar o seu lar para cuidar do lar de outros? Como se relaciona um país com os imigrantes que acolhe? \nEm “Pêndulo”\, Marco Martins trabalha com um grupo de mulheres cuidadoras e empregadas domésticas cujas vidas são pautadas pelo movimento pendular: entre a periferia e o centro da capital (Lisboa)\, entre a sua casa e a casa de quem as emprega\, e entre o país de origem e o país de destino\, Portugal. “Pêndulo” incide sobre a natureza do trabalho doméstico\, para falar das relações familiares\, do confronto entre diferentes modos de vida\, contextos\, expectativas\, sonhos e quotidianos. \nA criação\, na linha do trabalho cénico desenvolvido nos últimos anos por Marco Martins\, baseia-se na participação e empenho de um grupo de atores não profissionais. Abre espaço para as histórias dos que são diretamente confrontados com a precariedade implícita no devir económico e social do mundo. \n
URL:https://www.forumluisatodi.pt/espetaculo/pendulo/
CATEGORIES:Teatro
ATTACH;FMTTYPE=image/jpeg:https://www.forumluisatodi.pt/wp-content/uploads/2023/05/Pendulo-2.jpg
END:VEVENT
END:VCALENDAR