BEGIN:VCALENDAR
VERSION:2.0
PRODID:-//Fórum Luísa Todi - ECPv4.6.9//NONSGML v1.0//EN
CALSCALE:GREGORIAN
METHOD:PUBLISH
X-WR-CALNAME:Fórum Luísa Todi
X-ORIGINAL-URL:https://www.forumluisatodi.pt
X-WR-CALDESC:Events for Fórum Luísa Todi
BEGIN:VEVENT
DTSTART;TZID=Europe/Lisbon:20250413T180000
DTEND;TZID=Europe/Lisbon:20250413T193000
DTSTAMP:20260422T084917
CREATED:20250108T115648Z
LAST-MODIFIED:20250108T115648Z
UID:77601-1744567200-1744572600@www.forumluisatodi.pt
SUMMARY:Pedro Branco
DESCRIPTION:Foi pelas mãos da mãe que\, aos 12 anos\, Pedro Branco conheceu a sua primeira guitarra. Desde muito cedo\, o músico começou a fazer música própria\, guiando-se pelo instinto e por uma espécie de “esquematização pessoal”. \nAos 18 anos\, Pedro dedica-se por inteiro a estudar música\, ingressando em duas licenciaturas (Jazz e Música Moderna) e num mestrado em Performance Jazz. A partir daí multiplicaram-se os projetos. \nHoje\, Pedro é parte integrante da banda de Tiago Bettencourt e membro do grupo You Can’t Win\, Charlie Brown\, banda com a qual gravou o disco “Ambâr” e participou no festival da canção. \nDentro do mundo do jazz\, as colaborações mais notórias foram com o contrabaixista João Hasselberg e com o baterista João Lencastre. No universo dos scats e swings\, o músico participou no disco “Unlimited Dreams”\, que viria a conquistar um prémio Play. \nPedro Branco estreou-se a solo em 2022. \nO processo criativo de onde nasce “A Narrativa Épica do Quotidiano” coincidiu com o período de isolamento pandémico\, onde\, como que uma bolha isolada e isoladora\, o músico se reencontrou “num tempo e espaço interior a que já não estava habituado”. \nAqui\, as canções surgiram intimistas. São trechos de melodias\, referências de experiências próprias e de ideias abstratas que em muito mostram o que o músico é\, como sente e como se sente enquanto artista e humano. \nNão em nome próprio\, mas com uma conotação muito pessoal\, Pedro e a restante parte integrante do trio Old Jazz Mountain\, interpreta a obra que Marco Paulo celebrizou. \nFoi depois de ter ouvido o disco “Ver e Amar” que o guitarrista se aventurou\, num ato experimental\, a eternizar o cantor romântico português em melodias jazz. Novamente\, em parceria com o baterista João Sousa e desta vez também com o histórico músico Carlos Barretto. \nPor esta altura o Pedro\, com o seu grupo de jazz\, já gravou o que vai ser o seu próximo disco de originais. Neste trabalho\, podemos contar com a participação do mítico saxofonista norte-americano Tony Malaby. \nPedro relembra-nos que “a música é maior que nós todos\, e nós somos também maiores com ela. Sem termos sequer que a entender. Os códigos são para ser estudados\, mas nós somos sempre servos de fluxos que não conseguimos ver\, mas essa percepção é o que faz valer a pena e ainda nos torna humanos”. \nSobre o Festival Guitarras ao Alto \nCoorganizado pela Câmara Municipal de Setúbal e a GHUDE\, o Festival Guitarras ao Alto\, tem a direção artística de Vasco Durão e é desenvolvido em parceria com o Soam As Guitarras. \n
URL:https://www.forumluisatodi.pt/espetaculo/pedro-branco/
CATEGORIES:Música
ATTACH;FMTTYPE=image/jpeg:https://www.forumluisatodi.pt/wp-content/uploads/2025/01/PedroBranco.jpg
END:VEVENT
END:VCALENDAR