BEGIN:VCALENDAR
VERSION:2.0
PRODID:-//Fórum Luísa Todi - ECPv4.6.9//NONSGML v1.0//EN
CALSCALE:GREGORIAN
METHOD:PUBLISH
X-WR-CALNAME:Fórum Luísa Todi
X-ORIGINAL-URL:https://www.forumluisatodi.pt
X-WR-CALDESC:Events for Fórum Luísa Todi
BEGIN:VEVENT
DTSTART;TZID=Europe/Lisbon:20210828T210000
DTEND;TZID=Europe/Lisbon:20210828T210000
DTSTAMP:20260422T132534
CREATED:20210806T124948Z
LAST-MODIFIED:20210810T120334Z
UID:71613-1630184400-1630184400@www.forumluisatodi.pt
SUMMARY:OTUS
DESCRIPTION:Dois seres que vivem num mundo abstrato\, Otus está enraizado na natureza humana. \nAqui vive uma perspetiva única\, um vislumbre das suas vidas\, motivações\, relacionamentos e hábitos. \nUtilizando o circo\, teatro físico\, movimento\, clown e cenografia\, Otus explora a tensão\, o espaço entre personagens\, objetos e o mundo de madeira em que residem. \nCom pilhas precárias de tábuas de madeira cortadas\, corda\, mesa e trapézio\, o seu domínio peculiar é definido. O seu mundo revela-se imerso nas suas próprias nuances e representado por acrobacias\, malabarismos\, cordas\, trapézios e manipulação de bastão. \n
URL:https://www.forumluisatodi.pt/espetaculo/otus/
CATEGORIES:Teatro
ATTACH;FMTTYPE=image/jpeg:https://www.forumluisatodi.pt/wp-content/uploads/2021/08/Otus.jpg
END:VEVENT
END:VCALENDAR