BEGIN:VCALENDAR
VERSION:2.0
PRODID:-//Fórum Luísa Todi - ECPv4.6.9//NONSGML v1.0//EN
CALSCALE:GREGORIAN
METHOD:PUBLISH
X-WR-CALNAME:Fórum Luísa Todi
X-ORIGINAL-URL:https://www.forumluisatodi.pt
X-WR-CALDESC:Events for Fórum Luísa Todi
BEGIN:VEVENT
DTSTART;TZID=Europe/Lisbon:20190429T210000
DTEND;TZID=Europe/Lisbon:20190429T211000
DTSTAMP:20260421T204625
CREATED:20190125T101130Z
LAST-MODIFIED:20190129T115201Z
UID:68539-1556571600-1556572200@www.forumluisatodi.pt
SUMMARY:OS SAPATOS VERMELHOS
DESCRIPTION:Uma das obras primas do cinema britânico da década de 40\, que tem por tema a relação entre a vida e a arte. \nUma jovem bailarina torna-se uma estrela\, mas a entrega à carreira\, sacrificando o amor\, acaba por conduzi-la ao suicídio. \nVencedor de dois Óscares da Academia\, o filme influenciou gerações de cineastas\, artistas e aspirantes a bailarinas pela mistura e forma complexa como aborda a vida nos bastidores da representação em palco. \n
URL:https://www.forumluisatodi.pt/espetaculo/os-sapatos-vermelhos/
CATEGORIES:Cinema
ATTACH;FMTTYPE=image/jpeg:https://www.forumluisatodi.pt/wp-content/uploads/2019/01/Red_Shoes_site.jpg
END:VEVENT
END:VCALENDAR