BEGIN:VCALENDAR
VERSION:2.0
PRODID:-//Fórum Luísa Todi - ECPv4.6.9//NONSGML v1.0//EN
CALSCALE:GREGORIAN
METHOD:PUBLISH
X-WR-CALNAME:Fórum Luísa Todi
X-ORIGINAL-URL:https://www.forumluisatodi.pt
X-WR-CALDESC:Events for Fórum Luísa Todi
BEGIN:VEVENT
DTSTART;TZID=Europe/Lisbon:20241125T210000
DTEND;TZID=Europe/Lisbon:20241125T230000
DTSTAMP:20260419T235958
CREATED:20241023T083910Z
LAST-MODIFIED:20241111T122343Z
UID:77267-1732568400-1732575600@www.forumluisatodi.pt
SUMMARY:Os Eleitos
DESCRIPTION:O presidente John F. Kennedy tinha tomado posse e toda a América vibrava com o desafio da “Nova Fronteira”. \nOs problemas sociais\, políticos e económicos pareciam de fácil resolução para muita gente. E o mesmo optimismo parecia aplicar-se à última fronteira: o Espaço. \nNum vibrante discurso\, o presidente revelou a intenção de avançar com o programa espacial e levar o homem à Lua numa década. \nAo desafio\, a América respondeu com sete astronautas pioneiros… \nO filme faz parte da masterclass de Lauro António “Cinema Americano\, anos 80”\, com mais de seis dezenas de filmes selecionados pelo antigo cineasta e crítico cinematográfico\, falecido em 2022. \n
URL:https://www.forumluisatodi.pt/espetaculo/os-eleitos/
CATEGORIES:Cinema
ATTACH;FMTTYPE=image/jpeg:https://www.forumluisatodi.pt/wp-content/uploads/2024/10/Eleitos.jpg
END:VEVENT
END:VCALENDAR