BEGIN:VCALENDAR
VERSION:2.0
PRODID:-//Fórum Luísa Todi - ECPv4.6.9//NONSGML v1.0//EN
CALSCALE:GREGORIAN
METHOD:PUBLISH
X-WR-CALNAME:Fórum Luísa Todi
X-ORIGINAL-URL:https://www.forumluisatodi.pt
X-WR-CALDESC:Events for Fórum Luísa Todi
BEGIN:VEVENT
DTSTART;TZID=Europe/Lisbon:20230528T180000
DTEND;TZID=Europe/Lisbon:20230528T200000
DTSTAMP:20260424T094612
CREATED:20230411T154106Z
LAST-MODIFIED:20230411T154106Z
UID:73966-1685296800-1685304000@www.forumluisatodi.pt
SUMMARY:Orquestra Sinfónica do Festival Internacional de Música de Setúbal
DESCRIPTION:Concerto de encerramento do Festival Internacional de Música de Setúbal. \nA Orquestra Sinfónica do Festival Internacional de Música de Setúbal tem direção de Pablo Urbina. \n
URL:https://www.forumluisatodi.pt/espetaculo/orquestra-sinfonica-do-festival-internacional-de-musica-de-setubal-2/
CATEGORIES:Música
ATTACH;FMTTYPE=image/jpeg:https://www.forumluisatodi.pt/wp-content/uploads/2022/04/OrquestraSinfonicaFIMS.jpg
END:VEVENT
END:VCALENDAR