BEGIN:VCALENDAR
VERSION:2.0
PRODID:-//Fórum Luísa Todi - ECPv4.6.9//NONSGML v1.0//EN
CALSCALE:GREGORIAN
METHOD:PUBLISH
X-WR-CALNAME:Fórum Luísa Todi
X-ORIGINAL-URL:https://www.forumluisatodi.pt
X-WR-CALDESC:Events for Fórum Luísa Todi
BEGIN:VEVENT
DTSTART;TZID=Europe/Lisbon:20181129T213000
DTEND;TZID=Europe/Lisbon:20181129T214000
DTSTAMP:20260426T042521
CREATED:20181107T155655Z
LAST-MODIFIED:20181107T155655Z
UID:67963-1543527000-1543527600@www.forumluisatodi.pt
SUMMARY:ORQUESTRA LIGEIRA DO EXÉRCITO
DESCRIPTION:A Orquestra Ligeira do Exército tem uma estrutura em género de big band\, composta por cinco saxofones\, quatro trompetes\, quatro trombones\, dois teclados\, duas violas\, bateria\, percussão e três vocalistas. \nAo longo dos anos tem-se apresentado assiduamente nas mais prestigiadas salas de espetáculos do país e com os mais variados artistas e convidados do panorama musical nacional e internacional. \nA formação musical do Exército desenvolve\, igualmente\, um trabalho de recolha\, instrumentação e difusão de temas de raiz popular\, com o objetivo de afirmar e valorizar o património cultural português. \nNo espetáculo em Setúbal\, a Orquestra Ligeira do Exército interpreta temas conhecidos da música portuguesa de artistas como Amália Rodrigues\, Mariza\, Paulo de Carvalho e Xutos e Pontapés. \nO reportório inclui\, igualmente\, obras de artistas estrangeiros\, como Michael Jackson\, Amy Winehouse e Queen. \n  \n
URL:https://www.forumluisatodi.pt/espetaculo/orquestra-ligeira-do-exercito/
CATEGORIES:Música
ATTACH;FMTTYPE=image/jpeg:https://www.forumluisatodi.pt/wp-content/uploads/2018/11/Orquestra_Ligeira_Exercito_site.jpg
END:VEVENT
END:VCALENDAR