BEGIN:VCALENDAR
VERSION:2.0
PRODID:-//Fórum Luísa Todi - ECPv4.6.9//NONSGML v1.0//EN
CALSCALE:GREGORIAN
METHOD:PUBLISH
X-WR-CALNAME:Fórum Luísa Todi
X-ORIGINAL-URL:https://www.forumluisatodi.pt
X-WR-CALDESC:Events for Fórum Luísa Todi
BEGIN:VEVENT
DTSTART;TZID=Europe/Lisbon:20190210T180000
DTEND;TZID=Europe/Lisbon:20190210T181000
DTSTAMP:20260423T193221
CREATED:20190114T113433Z
LAST-MODIFIED:20190114T113515Z
UID:68263-1549821600-1549822200@www.forumluisatodi.pt
SUMMARY:ORQUESTRA FILARMÓNICA PORTUGUESA
DESCRIPTION: A Orquestra Filarmónica Portuguesa estreia-se em Setúbal com um espetáculo onde apresenta duas das mais belas e emblemáticas obras do período Romântico da música europeia\, o concerto para piano n.° 1 em Si bemol menor\, Op. 23\, de Tchaikovsky\, e a Sinfonia n° 3 em Fá Maior\, Op. 90\, de Johannes Brahms. \nRaul da Costa é o intérprete de um dos mais aclamados concertos para piano da história da música\, onde a paixão e o virtuosismo se unem de uma forma perfeita. \nA Sinfonia n.º3 de Brahms é considerada por muitos como a mais bem elaborada sinfonia do século XIX\, uma verdadeira pintura do Romantismo e uma autobiografia de Brahms. \n  \n
URL:https://www.forumluisatodi.pt/espetaculo/orquestra-filarmonica-portuguesa/
CATEGORIES:Música
ATTACH;FMTTYPE=image/jpeg:https://www.forumluisatodi.pt/wp-content/uploads/2019/01/OrquestraFilarmonicaPortuguesa_site.jpg
END:VEVENT
END:VCALENDAR