BEGIN:VCALENDAR
VERSION:2.0
PRODID:-//Fórum Luísa Todi - ECPv4.6.9//NONSGML v1.0//EN
CALSCALE:GREGORIAN
METHOD:PUBLISH
X-WR-CALNAME:Fórum Luísa Todi
X-ORIGINAL-URL:https://www.forumluisatodi.pt
X-WR-CALDESC:Events for Fórum Luísa Todi
BEGIN:VEVENT
DTSTART;TZID=Europe/Lisbon:20230520T210000
DTEND;TZID=Europe/Lisbon:20230520T230000
DTSTAMP:20260424T154054
CREATED:20230411T145146Z
LAST-MODIFIED:20230411T145146Z
UID:73942-1684616400-1684623600@www.forumluisatodi.pt
SUMMARY:Orquestra Académica Metropolitana
DESCRIPTION:O Festival Internacional de Música de Setúbal apresenta a Orquestra Académica Metropolitana\, com a participação de alunos do Conservatório Regional de Setúbal e da Academia de Música e Belas-Artes Luisa Todi. \nOrquestra Académica Metropolitana (OAM) estreou-se em 1993\, na sequência da criação da Academia Nacional Superior de Orquestra (ANSO) – uma instituição única no país\, destinada a formar músicos profissionais nas áreas de Instrumento e Direção de Orquestra. Desde o início\, a OAM é orientada por Jean-Marc Burfin\, seu maestro titular. \nCom largas centenas de concertos realizados\, abarcando um reportório que vai do Barroco à música do século XX\, a OAM tem executado obras de compositores tão representativos como Bach\, Haydn\, Mozart\, Beethoven\, Brahms\, Schubert\, Mendelssohn\, Mahler\, Ravel\, Debussy\, Milhaud\, Bartók\, Hindemith\, Stravinsky e Varèse\, entre outros. \nOs alunos da academia da Metropolitana trazem consigo música que encantou os palcos parisienses em finais do século XIX e uma sinfonia que ocupa lugar de honra no imaginário coletivo de todos nós. \n
URL:https://www.forumluisatodi.pt/espetaculo/orquestra-academica-metropolitana-3/
CATEGORIES:Música
ATTACH;FMTTYPE=image/jpeg:https://www.forumluisatodi.pt/wp-content/uploads/2019/12/Concerto_Orquestra_Academica_Metropolitana_site.jpg
END:VEVENT
END:VCALENDAR