BEGIN:VCALENDAR
VERSION:2.0
PRODID:-//Fórum Luísa Todi - ECPv4.6.9//NONSGML v1.0//EN
CALSCALE:GREGORIAN
METHOD:PUBLISH
X-WR-CALNAME:Fórum Luísa Todi
X-ORIGINAL-URL:https://www.forumluisatodi.pt
X-WR-CALDESC:Events for Fórum Luísa Todi
BEGIN:VEVENT
DTSTART;TZID=Europe/Lisbon:20211227T190000
DTEND;TZID=Europe/Lisbon:20211227T203000
DTSTAMP:20260420T020847
CREATED:20211012T131442Z
LAST-MODIFIED:20211222T104725Z
UID:71878-1640631600-1640637000@www.forumluisatodi.pt
SUMMARY:O Último Ano em Marienbad
DESCRIPTION:Entre a rica clientela de um luxuoso hotel-palácio\, encontram-se um homem\, X\, uma mulher\, A\, e outro homem\, M\, que pode ser seu marido ou amante. Enquanto os convidados se entregam aos jogos disponíveis no local\, X procura A e lembra-lhe que se conheceram no ano anterior em Frederiksbad\, ou talvez em Marienbad. Embora a mulher negue conhecê-lo\, X insiste que eles tiveram um caso\, que ela sugeriu que eles se encontrassem este ano naquele hotel e que ela concordou em considerar sua proposta de ir embora com ele. \nInicialmente\, a mulher vê a história como uma piada\, mas rapidamente torna-se evidente de que não é um jogo. Os outros convidados\, o quarteto de cordas silencioso\, os jogos de dominó e a apresentação do Rosmersholm\, de Henrik Ibsen\, deixam de ter sua importância à medida que a realidade superficial se perde nas realidades privadas dos protagonistas. \nConvicto de que os dois se encontraram no ano anterior\, X insiste\, enchendo a mente da mulher com imagens que gradualmente tornam-se reais ou parecem tornar-se reais para ela. \nDiante de tamanha insistência\, ela finalmente se vê forçada a superar seu medo e tornar-se o que o estranho diz que é\, seu amante. \n
URL:https://www.forumluisatodi.pt/espetaculo/o-ultimo-ano-em-marienbad/
CATEGORIES:Cinema
ATTACH;FMTTYPE=image/jpeg:https://www.forumluisatodi.pt/wp-content/uploads/2021/10/27SEG_O_ultimo_ano_em_Marienbad.jpg
END:VEVENT
END:VCALENDAR