BEGIN:VCALENDAR
VERSION:2.0
PRODID:-//Fórum Luísa Todi - ECPv4.6.9//NONSGML v1.0//EN
CALSCALE:GREGORIAN
METHOD:PUBLISH
X-WR-CALNAME:Fórum Luísa Todi
X-ORIGINAL-URL:https://www.forumluisatodi.pt
X-WR-CALDESC:Events for Fórum Luísa Todi
BEGIN:VEVENT
DTSTART;TZID=Europe/Lisbon:20211225T170000
DTEND;TZID=Europe/Lisbon:20211225T183000
DTSTAMP:20260419T194130
CREATED:20211022T102421Z
LAST-MODIFIED:20211222T104849Z
UID:71939-1640451600-1640457000@www.forumluisatodi.pt
SUMMARY:O Rei Leão
DESCRIPTION:A tarde de Natal traz ao Fórum Municipal Luísa Todi o clássico de animação da Disney “O Rei Leão”. \nNas Terras Altas de África\, o leão Mufasa reina com sabedoria e generosidade\, conquistando o respeito do seu povo. Simba\, o seu filho\, crescerá e\, a seu tempo\, tomará o seu lugar\, respeitando o equilíbrio entre todas as formas de vida. Tudo parece pacífico à excepção de Scar\, o ressentido irmão de Mufasa\, que sempre aspirou subir ao trono. Na sua obsessão de se tornar rei\, Scar não olhará a meios para eliminar Mufasa e a sua cria para atingir os seus propósitos. \n
URL:https://www.forumluisatodi.pt/espetaculo/o-rei-leao/
CATEGORIES:Cinema
ATTACH;FMTTYPE=image/jpeg:https://www.forumluisatodi.pt/wp-content/uploads/2021/10/25SAB_O_Rei_Leao.jpg
END:VEVENT
END:VCALENDAR