BEGIN:VCALENDAR
VERSION:2.0
PRODID:-//Fórum Luísa Todi - ECPv4.6.9//NONSGML v1.0//EN
CALSCALE:GREGORIAN
METHOD:PUBLISH
X-WR-CALNAME:Fórum Luísa Todi
X-ORIGINAL-URL:https://www.forumluisatodi.pt
X-WR-CALDESC:Events for Fórum Luísa Todi
BEGIN:VEVENT
DTSTART;TZID=Europe/Lisbon:20211223T210000
DTEND;TZID=Europe/Lisbon:20211223T223000
DTSTAMP:20260420T013711
CREATED:20211012T082108Z
LAST-MODIFIED:20211130T152441Z
UID:71849-1640293200-1640298600@www.forumluisatodi.pt
SUMMARY:O Quebra-Nozes
DESCRIPTION:A Russian Classical Ballet\, prestigiada companhia de Moscovo\, dirigida pela famosa bailarina Evgeniya Bespalova\, regressa a Portugal para apresentar a obra-prima do bailado clássico “O Quebra-Nozes”\, uma narrativa encantadora que desperta o nosso imaginário\, remetendo-nos para o reino da fantasia. \nUm sonho de Natal com bonecos animados\, criaturas maléficas e um herói improvável – o príncipe Quebra-Nozes. Repleto de romance e fantasia\, o bailado exalta a capacidade de sonhar das crianças e a sinceridade dos seus sentimentos. \n“O Quebra-Nozes” perpetuou o génio de Tchaikovsky com a famosa Opus 71\, envolta de notáveis melodias\, como a “Dança da Fada do Açúcar” e “A Valsa das Flores”. \nMarius Petipa demonstrou a sua originalidade e criatividade no desenvolvimento coreográfico desta obra-prima intemporal\, que continua a ser um dos espetáculos mais representados de sempre. \nA Russian Classical Ballet apresenta uma produção clássica com elementos cenográficos de um realismo incrível\, criados no conceituado atelier de São Petersburgo onde se produzem os cenários para os teatros Bolshoi\, Mariinsky e La Scala ou a Ópera de Paris. \nFigurinos deslumbrantes\, acessórios elaborados com detalhes sumptuosos e um leque de melodias encantadoras que compõem esta grande obra-prima do ballet clássico. \nA tudo isto\, junta-se ainda um elenco de solistas e artistas irrepreensível\, liderado por duas estrelas da dança internacional. \nUma grande produção clássica e irresistível que representa um momento imperdível e memorável. Um espetáculo único que irá perdurar na memória do público.u \nSobre a Russian Classical Ballet \nPreservar a tradição do ballet clássico russo é a missão da companhia Russian Classical Ballet\, dirigida por Evgeniya Bespalova. Uma companhia composta por um elenco de bailarinos graduados pelas mais conceituadas escolas coreográficas: Moscovo\, São Petersburgo\, Novosibirsk e Perm. Artistas principais em alguns dos mais prestigiados teatros de dança dão corpo a esta companhia que concilia a mestria e experiência de bailarinos Internacionais\, com a irreverência de jovens talentos emergentes no panorama da dança clássica. \n
URL:https://www.forumluisatodi.pt/espetaculo/o-quebra-nozes/
CATEGORIES:Dança
ATTACH;FMTTYPE=image/jpeg:https://www.forumluisatodi.pt/wp-content/uploads/2021/10/QuebraNozes.jpg
END:VEVENT
END:VCALENDAR