BEGIN:VCALENDAR
VERSION:2.0
PRODID:-//Fórum Luísa Todi - ECPv4.6.9//NONSGML v1.0//EN
CALSCALE:GREGORIAN
METHOD:PUBLISH
X-WR-CALNAME:Fórum Luísa Todi
X-ORIGINAL-URL:https://www.forumluisatodi.pt
X-WR-CALDESC:Events for Fórum Luísa Todi
BEGIN:VEVENT
DTSTART;TZID=Europe/Lisbon:20210111T200000
DTEND;TZID=Europe/Lisbon:20210111T210000
DTSTAMP:20260422T193214
CREATED:20201215T144739Z
LAST-MODIFIED:20201215T175650Z
UID:70502-1610395200-1610398800@www.forumluisatodi.pt
SUMMARY:O HORROR DE DRÁCULA
DESCRIPTION:Este é um filme sobre Drácula\, a figura imortalizada pelo escritor irlandês Bram Stoker\, que editou o romance homónimo em 1897\, com toda a estética simbólica normalmente representada pela figura do vampiro. \nRosto pálido\, olhos arregalados\, sangue nos olhos e a escorrer em fios pela boca. Várias são as imagens que nos chegam à tela do Fórum Luísa Todi em “O Horror de Drácula”\, do realizador Terence Fisher. \nChristopher Lee deu corpo ao vampiro\, convertendo-o numa personagem sedutora\, sinistra e elegante. \nPeter Cushing\, no papel de Van Helsing\, é o seu implacável perseguidor. \n“O Horror de Drácula” é uma obra-prima do cinema negro e tem várias vantagens sobre as antigas versões da Universal Studios\, caso do uso da cor e do tratamento mais moderno dado ao vampiro. \n  \nPlano de Contingência do Fórum Municipal Luísa Todi Covid-19 \n
URL:https://www.forumluisatodi.pt/espetaculo/o-horror-de-dracula/
CATEGORIES:Cinema
ATTACH;FMTTYPE=image/jpeg:https://www.forumluisatodi.pt/wp-content/uploads/2020/10/o-horror-de-dracula.jpg
END:VEVENT
END:VCALENDAR