BEGIN:VCALENDAR
VERSION:2.0
PRODID:-//Fórum Luísa Todi - ECPv4.6.9//NONSGML v1.0//EN
CALSCALE:GREGORIAN
METHOD:PUBLISH
X-WR-CALNAME:Fórum Luísa Todi
X-ORIGINAL-URL:https://www.forumluisatodi.pt
X-WR-CALDESC:Events for Fórum Luísa Todi
BEGIN:VEVENT
DTSTART;TZID=Europe/Lisbon:20240626T103000
DTEND;TZID=Europe/Lisbon:20240626T120000
DTSTAMP:20260420T001438
CREATED:20240606T150300Z
LAST-MODIFIED:20240606T150300Z
UID:74984-1719397800-1719403200@www.forumluisatodi.pt
SUMMARY:O FLAUTISTA
DESCRIPTION:“O Flautista” é um bailado direcionado para um público infantil e familiar\, coreografado por Iolanda Rodrigues\, com conceção da coreógrafa e de Maria Bessa\, em 2001\, para CeDeCe – Companhia de Dança Contemporânea\, com o quadro do “Galo e a Galinha”\, de António Rodrigues\, e sonoplastia original de Miguel Ramos. \n“O Flautista” que nos livra de todos daquela invasão de ratos e lembra as pessoas grandes e importantes que as promessas são para se cumprir. \nUma história que trata de artes e fantasia\, muito embora no meio de bastante rataria… Para que\, quando os meninos forem grandes\, não corram o risco de se tornarem importantes. \n“O Flautista” é agora remontado em 2024 para a Pequena Companhia/Little Company\, da ADCS\, com a participação dos alunos do Curso Básico de Dança da ADCS. \n
URL:https://www.forumluisatodi.pt/espetaculo/o-flautista-2/2024-06-26/
CATEGORIES:Dança
ATTACH;FMTTYPE=image/jpeg:https://www.forumluisatodi.pt/wp-content/uploads/2024/06/Flautista.jpg
END:VEVENT
END:VCALENDAR