BEGIN:VCALENDAR
VERSION:2.0
PRODID:-//Fórum Luísa Todi - ECPv4.6.9//NONSGML v1.0//EN
CALSCALE:GREGORIAN
METHOD:PUBLISH
X-WR-CALNAME:Fórum Luísa Todi
X-ORIGINAL-URL:https://www.forumluisatodi.pt
X-WR-CALDESC:Events for Fórum Luísa Todi
BEGIN:VEVENT
DTSTART;TZID=Europe/Lisbon:20220328T210000
DTEND;TZID=Europe/Lisbon:20220328T210000
DTSTAMP:20260424T184429
CREATED:20220314T112454Z
LAST-MODIFIED:20220314T140316Z
UID:72473-1648501200-1648501200@www.forumluisatodi.pt
SUMMARY:O Couraçado Potemkin
DESCRIPTION:Em 1905\, na Rússia czarista\, aconteceu um motim que pressagiou a Revolução de 1917. Tudo começou no navio de guerra Potemkin\, quando os marinheiros estavam cansados de serem maltratados\, sendo que até carne estragada lhes era dada. \nAlguns marinheiros recusam-se a comer a carne\, o que leva os oficiais do navio a ordenar a sua execução. A tensão aumenta e\, gradualmente\, a situação começa a ficar descontrolada. \nLogo depois dos gatilhos serem apertados\, um marinheiro grita para os soldados e pede para que pensem se estão com os oficiais ou com a tripulação. Os soldados hesitam\, mas acabam por baixar as armas. \nLouco de ódio\, um oficial tenta agarrar numa das espingardas e provoca a revolta total no navio. Mas isto seria apenas o início de uma grande tragédia. \nSessão do ciclo “Filmes que eu amo”\, das masterclasses sobre história do cinema criadas por Lauro António e que continuam\, agora\, a título póstumo. \n
URL:https://www.forumluisatodi.pt/espetaculo/o-couracado-potemkin/
CATEGORIES:Cinema
ATTACH;FMTTYPE=image/jpeg:https://www.forumluisatodi.pt/wp-content/uploads/2022/03/CouracadoPotemkin.jpg
END:VEVENT
END:VCALENDAR