BEGIN:VCALENDAR
VERSION:2.0
PRODID:-//Fórum Luísa Todi - ECPv4.6.9//NONSGML v1.0//EN
CALSCALE:GREGORIAN
METHOD:PUBLISH
X-WR-CALNAME:Fórum Luísa Todi
X-ORIGINAL-URL:https://www.forumluisatodi.pt
X-WR-CALDESC:Events for Fórum Luísa Todi
BEGIN:VEVENT
DTSTART;TZID=Europe/Lisbon:20220221T210000
DTEND;TZID=Europe/Lisbon:20220221T223000
DTSTAMP:20260420T053429
CREATED:20211126T122427Z
LAST-MODIFIED:20220216T100538Z
UID:72075-1645477200-1645482600@www.forumluisatodi.pt
SUMMARY:O Circo
DESCRIPTION:Carlitos é perseguido pela polícia e acaba dentro de um circo. Ao entrar no palco principal\, as tentativas de fugir da lei acabam por agradar ao público\, o que faz o dono do local contratá-lo imediatamente como uma atração. \nQuando Carlitos se apaixona pela filha acrobata do dono\, ao mesmo tempo que surge  um novo pretendente\, Carlitos começa a tornar-se competitivo. \n“O Circo” foi lançado em janeiro de 1928\, poucos meses depois de o cinema entrar na era do som e tornou-se um dos últimos grandes sucessos do cinema mudo. \n
URL:https://www.forumluisatodi.pt/espetaculo/o-circo/
CATEGORIES:Cinema
ATTACH;FMTTYPE=image/jpeg:https://www.forumluisatodi.pt/wp-content/uploads/2021/11/O_Circo.jpg
END:VEVENT
END:VCALENDAR